BEGIN:VCALENDAR
VERSION:2.0
PRODID:-//wp-events-plugin.com//7.2.2.1//EN
TZID:Europe/Paris
X-WR-TIMEZONE:Europe/Paris
BEGIN:VEVENT
UID:128@montagnerando-fonsegrives.com
DTSTART;TZID=Europe/Paris:20180209T200000
DTEND;TZID=Europe/Paris:20180209T233000
DTSTAMP:20180120T134632Z
URL:https://montagnerando-fonsegrives.com/events/assemblee-generale-de-sec
 tion-montagne-rando/
SUMMARY:Vendredi 9 février 2018 = Assemblée Générale de la Section Mont
 agne-Rando
DESCRIPTION:Nous avons le plaisir de vous inviter à participer à l’Asse
 mblée Générale Ordinaire de notre Section Montagne\nqui se tiendra le V
 ENDREDI 9 FÉVRIER 2018 à 20 h.30 Salle de la Marne.\nNous espérons que 
 vous serez nombreux à participer à cette manifestation \; votre présenc
 e est une forme de reconnaissance\net de remerciements pour les bénévole
 s (membres du bureau\, animateurs\, membres des commissions) qui œuvrent 
 pour vous tout au long de l’année.\nL’ordre du jour sera le suivant :
 \n1 - Rapport Moral du président\n2 - Rapport d’activités\n3 - Rapport
  financier du trésorier\n4 - Élection du nouveau bureau\n5 - Questions d
 iverses et échanges avec les participants\n6 - Clôture par un pot de l
 ’amitié
CATEGORIES:Réunion
LOCATION:\, \, 
X-APPLE-STRUCTURED-LOCATION;VALUE=URI;X-ADDRESS=\, ;X-APPLE-RADIUS=100;X-TI
 TLE=:geo:0,0
END:VEVENT
BEGIN:VTIMEZONE
TZID:Europe/Paris
X-LIC-LOCATION:Europe/Paris
BEGIN:STANDARD
DTSTART:20171029T020000
TZOFFSETFROM:+0200
TZOFFSETTO:+0100
TZNAME:CET
END:STANDARD
END:VTIMEZONE
END:VCALENDAR