BEGIN:VCALENDAR
VERSION:2.0
PRODID:-//wp-events-plugin.com//7.2.2.1//EN
TZID:Europe/Paris
X-WR-TIMEZONE:Europe/Paris
BEGIN:VEVENT
UID:102@montagnerando-fonsegrives.com
DTSTART;TZID=Europe/Paris;VALUE=DATE:20171001
DTEND;TZID=Europe/Paris;VALUE=DATE:20171002
DTSTAMP:20171127T201237Z
URL:https://montagnerando-fonsegrives.com/events/dimanche-1-octobre-randon
 nee-pedestre-les-etangs-du-picot/
SUMMARY:Dimanche 1 Octobre = Randonnée pédestre – Les Étangs du Picot 
 - Le chemin des Orris
DESCRIPTION:En ce temps d’épreuve douloureuse\, nous reprenons progressi
 vement nos activités de randonnée. Nous vous invitons à venir nombreux 
 pour vous exprimer et affirmer notre solidarité.\nL’organisation de cet
 te randonnée sera précisée à la réunion de bureau du 27 septembre.\nI
 l est envisagé de ne faire qu’un seul groupe (marcheurs et randonneurs 
 ensemble).\nDes informations complémentaires vous seront communiquées ap
 rès la réunion du bureau le mercredi 27 septembre.\n\nPrésentation de l
 a randonnée : Point de départ : Parking au Pla de l’Isard (route D8\, 
 parking sur la gauche de la route après croix située à droite de la rou
 te).\n\n 	Se trouve à 126 kms de Toulouse\, 2H30 de route. Coordonnées G
 PS : LAT/LNG 42\,692010 /1\,450680. Altitude 1280 m.\n 	Les différents pa
 rcours :\n 	Aller/retour pour Marcheurs 2 : Barrage de Soulcem (1560 m) A/
 R de 6\,5 kms\, dénivelé : 280 m\, Durée : 3h00. \n 	Boucle pour Marche
 urs 1 : Orri du Picot (2040 m). A/R de 10\,8 kms\, dénivelé : 760 m\, Du
 rée : 5h00. \n 	Boucle pour Randonneurs : Les 4 étangs du Picot (2416 m)
  A/R 2ème lac : 12\,2 kms (2163 m) dénivelé : 880 m\, Durée : 5h15. 3
 ème lac : 13\,3 kms (2286 m) dénivelé : 1000 m\, Durée : 6h 00. 4ème 
 lac : 14\,5 kms (2424 m)\, dénivelé : 1150 m\, Durée : 6h45.\nINFORMATI
 ONS :\nAucune inscription conditionnelle ("s'il fait beau\, inscrivez-moi 
 !...") ne pourra être prise en considération.\nLe car sera en place dès
  6 h 45 pour un départ effectif à 7 h 00 précises\, ne soyez pas en ret
 ard.\nLes directives d’animation des Groupes de niveau seront données d
 ans le car.\n\n[sgpx gpx="/wp-content/uploads/gpx/Etangs du Picot.gpx"]\nP
 our télécharger le topo\, cliquez ici\n\nCONSIGNES\nCette randonnée p
 édestre se déroule en site montagnard\nConsultez et suivez les conseils 
 et recommandations de notre site Internet pour vous y préparer.\nMunissez
 -vous des équipements individuels minimum suivants\, exigés pour partici
 per en sécurité à cette randonnée pédestre :\n- Chaussures de randonn
 ée adaptées\, les « baskets » ne sont pas autorisés\,\n- Vêtements e
 t équipements de protection contre le froid\, le vent\, la pluie et le so
 leil\,\n- Eau en quantité suffisante\, repas de déjeuner et vivres de co
 urse\,\n- Autres\nN’oubliez pas le cas échéant\, vos médicaments pers
 onnels\, bâtons\, lunettes…éventuellement votre téléphone mobile\, a
 ppareil photo…\n\nEN CAS D'ANNULATION\nVeuillez contacter :\nPar message
 rie aux adresses suivantes:\n- Bernard PORCHERON : porcheron.bernard@wanad
 oo.fr\n- Jacques VIGUIÉ : viguiejacques@orange.fr\nPar téléphone auprè
 s de :\n- Bernard PORCHERON : 05.61.80.13.22 ou 06.81.59.25.69\n- Jacques 
 VIGUIÉ : 06.70.72.94.76
CATEGORIES:Rando
END:VEVENT
BEGIN:VTIMEZONE
TZID:Europe/Paris
X-LIC-LOCATION:Europe/Paris
BEGIN:DAYLIGHT
DTSTART:20170326T030000
TZOFFSETFROM:+0100
TZOFFSETTO:+0200
TZNAME:CEST
END:DAYLIGHT
END:VTIMEZONE
END:VCALENDAR