BEGIN:VCALENDAR
VERSION:2.0
PRODID:-//wp-events-plugin.com//7.2.2.1//EN
TZID:Europe/Paris
X-WR-TIMEZONE:Europe/Paris
BEGIN:VEVENT
UID:228@montagnerando-fonsegrives.com
DTSTART;TZID=Europe/Paris;VALUE=DATE:20220410
DTEND;TZID=Europe/Paris;VALUE=DATE:20220411
DTSTAMP:20220402T121151Z
URL:https://montagnerando-fonsegrives.com/events/dimanche-10-avril-2022-le
 -signal-dalaric-et-le-roc-gris/
SUMMARY:Dimanche 10 Avril 2022 : Le Signal d'Alaric et le Roc Gris
DESCRIPTION:Le Signal d'Alaric et le Roc Gris \nCarte IGN 2446 OT\n\nTél
 écharger le topo - les traces GPX des Marcheurs et Randonneurs \n\n\n\n\
 n\n\n\n\n\n\n\n\nPrésentation de la randonnée\n\n\n\n\n\nPoint de dépar
 t :\nSe rendre à MOUX (25kms à l’Est de Carcassonne par la D6113).\nSo
 rtir de MOUX par la rue Prosper Mestre Huc. Suivre la route sur 1km\, fran
 chir un pont sous l’autoroute\, puis\, de suite après\, emprunter une p
 etite route à gauche. Se garer à 50m plus loin sur la droite (grand park
 ing au niveau d’une citerne blanche)\nDistance : 120 kms – 1h50.\nCoor
 données GPS : 43.17456 N / 2.64329 E\n\nDEPART RETARDÉ EN BUS POUR PERM
 ETTRE LE VOTE AUX ELECTIONS\nDEPART A 8H30 DEPUIS LE PARKING COMPLEXE PATR
 ICK PEPI\n\n\n\n\n\n\n\n\n\n\n\n\n\n\n\n\nLe Parcours :\n\n 	Marcheurs/Ran
 donneurs :\nBoucle commune :\nDistance 10\,3 kms\, dénivelé : 650 m\, Te
 mps : 4h 30\n\n\n\n\n\n\n\n\n\n\n\n\n\n\n\n\n\n\n\n\n\n\n\n\n\n\n\n\n\n\n\
 n\n\n\n\n\n\n\n\n\n\n\n\n\n\n\nConstitutif du contrefort nord du massif de
 s Corbières\, la montagne d'Alaric établi une frontière climatique entr
 e le climat méditerranéen côté narbonnais et le climat plus océanique
  côté toulousain. C'est bien souvent ici qu'on viendra chercher le solei
 l lorsqu'il délaisse les Pyrénées.\nCulminant à 600m au Signal d'Alari
 c\, l'altitude demeure certes modeste\, mais le panorama n'en est pas moin
 s grandiose sur une grande partie du parcours. S'écartant du classique GR
 77\, l'itinéraire décrit ici permet de découvrir la diversité sauvage 
 de ce beau massif.\nLe Roc gris est également appelé ROC DE ROLAND. La l
 égende raconte que pour échapper à ses ennemis\, Roland fit sauter son 
 cheval du haut de cet éperon rocheux jusqu'à la Montagne Noire situé de
  l’autre côté de la vallée de l’Aude.\nDepuis le Signal d'Alaric\, 
 il est possible de revenir au parking en suivant constamment le tracé du 
 GR77. Cela représente une alternative légèrement plus rapide\, et surto
 ut plus simple au niveau de l'orientation.\nAu-delà du Roc gris\, descent
 e de la brèche nécessitant de s’aider des mains.\nRandonnée à évite
 r en période estivale (grosse chaleur).\nUne bonne orientation est néces
 saire : une partie du parcours n’est pas balisé.\n\n\n\n\n\n\n\n\n\n\n\
 n\n\n\n\nMerci de confirmer votre inscription avant Mercredi 6 Avril 19h30
 \n\n\n\n\nMétéo : 08 99 71 02 11 - Secours : 112\n\n\n
ATTACH;FMTTYPE=image/jpeg:https://montagnerando-fonsegrives.com/wp-content
 /uploads/2022/03/Signal-Alaric.png
END:VEVENT
BEGIN:VTIMEZONE
TZID:Europe/Paris
X-LIC-LOCATION:Europe/Paris
BEGIN:DAYLIGHT
DTSTART:20220327T030000
TZOFFSETFROM:+0100
TZOFFSETTO:+0200
TZNAME:CEST
END:DAYLIGHT
END:VTIMEZONE
END:VCALENDAR