BEGIN:VCALENDAR
VERSION:2.0
PRODID:-//wp-events-plugin.com//7.2.2.1//EN
TZID:Europe/Paris
X-WR-TIMEZONE:Europe/Paris
BEGIN:VEVENT
UID:116@montagnerando-fonsegrives.com
DTSTART;TZID=Europe/Paris;VALUE=DATE:20171217
DTEND;TZID=Europe/Paris;VALUE=DATE:20171218
DTSTAMP:20171225T160815Z
URL:https://montagnerando-fonsegrives.com/events/dimanche-10-decembre-rand
 onnee-pedestre-rocamadour-2/
SUMMARY:Dimanche 17 Décembre = Randonnée pédestre – Rocamadour
DESCRIPTION:Rocamadour – Les 2 vallées - Moulin de Caugnaguet - Carte I
 GN : 2136 ET\nPrésentation de la randonnée :  \nPoint de départ : Park
 ing château de Rocamadour. Se trouve à 176kms de Toulouse en passant par
  Gramat\, 2H30 de route. Coordonnées GPS : LAT/LNG  44\,800100 /1\,61538
 0\nLes différents parcours :\n• Boucle pour Marcheurs : Rocamadour – 
 Les deux Vallées – Rocamadour Distance : 14 kms\, dénivelé : 350 m\, 
 Durée : 5h 00 Option : le Gouffre de St Sauveur + 2kms. \n• Boucle pour
  Randonneurs : Rocamadour – Moulin de Caugnagnet – Rocamadour Distance
  : 19\,3 kms\, dénivelé : 605 m (circuit rouge)\, Durée : 5 h30 \n• C
 ircuit pour marcheurs nordiques : 16 km et 380 m de dénivelé. \nCette r
 andonnée\, au départ de Rocamadour\, lieu de pèlerinage de la Vierge No
 ire depuis les années 1100\, vous permet de traverser l’Hospitalet (jad
 is\, lieu d’accueil pour les pèlerins malades)\, le village de Rocamado
 ur\, puis après une montée à la pente agréable\, d’admirer le site d
 e Rocamadour sur son versant opposé.\nPuis nous redescendons dans la vall
 ée afin d’aller à la rencontre de deux rivières : l’Ouysse et de l
 ’Alzou. Au niveau de Cabouy\, gouffre du même nom où se trouve la seco
 nde résurgence de l’Ouysse : la première est située au Gouffre de St 
 Sauveur à 1 km à l’ouest de Cabouy (détour qui vaut la peine). Les ra
 ndonneurs suivront le GR 6\, longeant l’Ouysse\, pour admirer différent
 s moulins (moulin de Caoulet\, de la Peyre et le moulin fortifié de Caugn
 agnet\, classé monument historique depuis 1935\, toujours opérationnel l
 ors de visite « Entrée payante »). Puis les deux groupes remonteront\, 
 par des cheminements différents\, sur le Causse du Quercy où des troupea
 ux de moutons paissent.\nRetour au Château de Rocamadour et\, si vous ave
 z marché d’un bon pas\, visite du lieu sacré.\nMétéo : 08 99 71 02 4
 6.   Office de tourisme : 05 61 96 00 01. (Rocamadour). Secours :  112.
 \n[sgpx gpx="/wp-content/uploads/gpx/Marcheurs avec option.gpx"]\n[sgpx gp
 x="/wp-content/uploads/gpx/Randonneur Rocamadour.gpx"]\nPour télécharger
  le topo : cliquez ici\n\n\n\nCONSEILS PRATIQUES\n Munissez-vous des équ
 ipements individuels minimum suivants\, exigés pour participer en sécuri
 té à cette randonnée raquettes :\n– Chaussures de randonnée adaptée
 s\, les « baskets » ne sont pas autorisés\,\n– Vêtements et équipem
 ents de protection\, bonnet\, gants\, bâtons\, guêtres ..\n– Eau en qu
 antité suffisante\, repas de déjeuner et vivres de course\,\nN’oubliez
  pas\, vos médicaments personnels\, éventuellement votre téléphone mob
 ile\, appareil photo… et surtout n’oubliez pas votre crème solaire\, 
 vos lunettes… et votre bonne humeur !\nEN CAS D’ANNULATION\nVeuillez c
 ontacter :\nPar messagerie aux adresses suivantes:\n– Bernard PORCHERON 
 : porcheron.bernard@wanadoo.fr – Jacques VIGUIÉ : viguiejacques@orange.
 fr\nPar téléphone auprès de :\n– Bernard PORCHERON : 05.61.80.13.22 o
 u 06.81.59.25.69\n– Jacques VIGUIÉ : 06.70.72.94.76\n
CATEGORIES:Rando
END:VEVENT
BEGIN:VTIMEZONE
TZID:Europe/Paris
X-LIC-LOCATION:Europe/Paris
BEGIN:STANDARD
DTSTART:20171029T020000
TZOFFSETFROM:+0200
TZOFFSETTO:+0100
TZNAME:CET
END:STANDARD
END:VTIMEZONE
END:VCALENDAR