BEGIN:VCALENDAR
VERSION:2.0
PRODID:-//wp-events-plugin.com//7.2.2.1//EN
TZID:Europe/Paris
X-WR-TIMEZONE:Europe/Paris
BEGIN:VEVENT
UID:200@montagnerando-fonsegrives.com
DTSTART;TZID=Europe/Paris;VALUE=DATE:20211010
DTEND;TZID=Europe/Paris;VALUE=DATE:20211011
DTSTAMP:20211005T213337Z
URL:https://montagnerando-fonsegrives.com/events/dimanche-10-octobre-pic-d
 e-saint-barthelemy/
SUMMARY:Dimanche 10 Octobre : Pic de Saint Barthelemy
DESCRIPTION:Col de Girabla (1996m) - Pic de Saint Barthelemy (2348 m)\nCart
 e IGN 2148 ET\n\nTélécharger le topo - les traces GPX des Marcheurs (Col
  de Girabal)  et des Randonneurs (Pic de St Barthelemy)\n\n\n\n\n\n\n\n\n
 \n\n\n\nPrésentation de la randonnée\n\n\n\n\n\nPoint de départ :\nDepu
 is Toulouse\, direction Foix puis N20 direction Andorre sur 5km\, puis D11
 7 direction Lavelanet. 4 km après Nalzen suivre à droite direction Stati
 on des Monts d’Olmes. Passer Villeneuve d'Olmes puis Montferrier. Poursu
 ivre sur 15km jusqu'à la station. Se garer sur le parking du haut\n\nDist
 ance : 125 kms – 2h00\nCoordonnées GPS : 42.84292 N/ 1.74664 E Alt. : 1
 490m.\n\n\nDEPART EN BUS A 7H DEPUIS LE PARKING COMPLEXE PATRICK PEPI\n\n\
 n\n\n\n\n\n\n\n\n\n\n\n\n\n\nLe Parcours :\n\n 	A/R Marcheurs : depuis la 
 station des Monts d’Olmes atteindre le Col de Girabal\nDistance : 8\,0 k
 ms\, dénivelé : 598 m\, Temps : 5h 00\n 	Boucle Randonneurs : Pic sain
 t Barthélemy depuis la station de ski des Monts d’Olmes via le Col Gir
 abal.\nDistance 10\,2 kms\, dénivelé : 1080 m\, Temps : 5h 30\n\n\n\n\
 n\n\n\n\n\n\n\n\n\n\n\n\n\n\n\n\n\n\n\n\n\n\n\n\n\n\n\n\n\n\n\n\n\n\n\n\n\
 n\n\n\n\n\nLe Pic de Saint-Barthélemy fait partie des sommets emblémat
 iques qu'on se doit de faire au moins une fois dans notre vie pour appré
 cier le panorama absolument époustouflant sur 360°. \n\nIl existe de no
 mbreux chemins pour atteindre le Pic Saint Barthélemy\, toutefois l’ac
 cès décrit ici par la station des Monts d’Olmes est le plus rapide.\
 n\nLe panorama est exceptionnel au sommet du Saint Barthélemy. Par temps
  clair\, on peut voir côté plaine jusqu’à Toulouse et côté mon
 tagne toutes les Pyrénées de l’Est.\n\n\n\n\n\n\n\n\n\nItinéraire 
 assez bien balisé : balisage jaune et rouge sur les crêtes\, Jaune sur
  le reste du parcours. Au cours de l’itinéraire\, les Randonneurs renc
 ontreront une montée assez raide entre le Col de Girabal et le Saint Bar
 thélemy et un passage où il faut poser les mains.\n\n\n\n\n\n\n\n\n\n\
 n\n\n\n\n\n\n\n\n\n\n\n\n\nMétéo : 08 99 71 02 09. Secours : 112\nMerci 
 de confirmer votre inscription avant Mercredi 6 Octobre 19h00\n
ATTACH;FMTTYPE=image/jpeg:https://montagnerando-fonsegrives.com/wp-content
 /uploads/2021/09/PicStBarthelemy-e1632840031251.jpg
CATEGORIES:Rando
END:VEVENT
BEGIN:VTIMEZONE
TZID:Europe/Paris
X-LIC-LOCATION:Europe/Paris
BEGIN:DAYLIGHT
DTSTART:20210328T030000
TZOFFSETFROM:+0100
TZOFFSETTO:+0200
TZNAME:CEST
END:DAYLIGHT
END:VTIMEZONE
END:VCALENDAR