BEGIN:VCALENDAR
VERSION:2.0
PRODID:-//wp-events-plugin.com//7.2.2.1//EN
TZID:Europe/Paris
X-WR-TIMEZONE:Europe/Paris
BEGIN:VEVENT
UID:100@montagnerando-fonsegrives.com
DTSTART;TZID=Europe/Paris;VALUE=DATE:20170910
DTEND;TZID=Europe/Paris;VALUE=DATE:20170911
DTSTAMP:20171127T195430Z
URL:https://montagnerando-fonsegrives.com/events/dimanche-10-septembre-ran
 donnee-pedestre-coumebiere-vers-la-pique-rouge-de-bassies/
SUMMARY:Dimanche 10 septembre = Randonnée pédestre – Coumebière vers l
 a Pique Rouge de Bassiès
DESCRIPTION:Plateau de Coumelière. Col Las Fouzes et Morech   Cartes IGN
  : 2148 OT 2047 ET\nPrésentation de la randonnée :  Point de départ : 
 Parking au Plateau de Coumelière (1399m) : D’Aulus-les-Bains prendre le
  Col d’Agnès\, monter pendant 7\,5 kms puis parking sur la gauche de la
  route. Se trouve à 150 kms de Toulouse\, 2H30 de route.\nCoordonnées GP
 S : LAT/LNG  42\,783160 /1\,386290\n\n 	Les différents parcours : \n 	A
 ller/retour pour Marcheurs 2 : Port de Salex (1794m) 6 kms\, dénivelé : 
 395 m\, Temps : 2h30 \n 	Boucle pour Marcheurs 1 : Col de Las Fouzes (1944
 m). A/R de 8\,8 kms\, dénivelé : 600 m\,Temps : 3h30 \n 	Boucle pour Ran
 donneurs : Cot de Morech via le col de Morech (2145m) 10\,5 kms\, dénivel
 é : 860 m (circuit rouge)\,Temps : 4h30 Trois randonnées\, avec diverse
 s difficultés\, sont offertes à partir du plateau de Coumelière. Le dé
 part se fait en empruntant le GR10 ‘direction Sud-Est jusqu’à un abre
 uvoir.  Les randonneurs et marcheurs 1\, partiront plein Sud en direction
  du Pic des Argentières\, puis direction Sud-Est vers le col de Las Fouz
 ès (1944 m). On pourra voir l’étang d’Alate et les ruines de l’anc
 ienne mine des Argentières. Les Marcheurs prendront le chemin\, vers la g
 auche\, qui mène au Port de Bassiès (1933m) tandis que les Randonneurs f
 eront un Aller-Retour jusqu’au Cot de Morech (2145m) direction Sud-Ouest
  jusqu’au Pic des Planes puis plein Sud. Arrivés au Cot\, les randonneu
 rs reviendront sur leur pas puis emprunteront le chemin des Marcheurs. Au 
 port de Bassiès\, reprendre le GR 10 (Nord) jusqu’au point de départ. 
 Pour les marcheurs 2\, suivre le GR 10 du départ jusqu’au Port de Salex
  (1794m) puis retour par le même itinéraire.Météo : 08 99 71 02 09. 
   Office de tourisme : 05 61 96 00 01. (Aulus-les-Bains)\nSecours Ariège
  :  112. PGHN : 05 61 64 22 58.\n\n[sgpx gpx="/wp-content/uploads/gpx/Cou
 melière 1 Marcheurs.gpx"]\n[sgpx gpx="/wp-content/uploads/gpx/Courmelièr
 e 1Randonneur.gpx"]\nPour télécharger le topo\, cliquez ici\n\nCONSEILS
  PRATIQUES\n Munissez-vous des équipements individuels minimum suivants\,
  exigés pour participer en sécurité à cette randonnée :\n– Chaussur
 es de randonnée adaptées\, les « baskets » ne sont pas autorisés\,\n
 – Vêtements et équipements de protection\, bonnet\, gants\, bâtons\, 
 guêtres ..\n– Eau en quantité suffisante\, repas de déjeuner et vivre
 s de course\,\nN’oubliez pas\, vos médicaments personnels\, éventuelle
 ment votre téléphone mobile\, appareil photo… et surtout n’oubliez p
 as votre crème solaire\, vos lunettes… et votre bonne humeur !\nEN CAS 
 D’ANNULATION\nVeuillez contacter :\nPar messagerie aux adresses suivante
 s:\n– Bernard PORCHERON : porcheron.bernard@wanadoo.fr – Jacques VIGUI
 É : viguiejacques@orange.fr\n– Jacques FRAPPART : jacquesfrappart@orang
 e.fr\nPar téléphone auprès de :\n– Bernard PORCHERON : 05.61.80.13.22
  ou 06.81.59.25.69\n– Jacques VIGUIÉ : 06.70.72.94.76
CATEGORIES:Rando
END:VEVENT
BEGIN:VTIMEZONE
TZID:Europe/Paris
X-LIC-LOCATION:Europe/Paris
BEGIN:DAYLIGHT
DTSTART:20170326T030000
TZOFFSETFROM:+0100
TZOFFSETTO:+0200
TZNAME:CEST
END:DAYLIGHT
END:VTIMEZONE
END:VCALENDAR