BEGIN:VCALENDAR
VERSION:2.0
PRODID:-//wp-events-plugin.com//7.2.2.1//EN
TZID:Europe/Paris
X-WR-TIMEZONE:Europe/Paris
BEGIN:VEVENT
UID:78@montagnerando-fonsegrives.com
DTSTART;TZID=Europe/Paris;VALUE=DATE:20161211
DTEND;TZID=Europe/Paris;VALUE=DATE:20161212
DTSTAMP:20171203T124345Z
URL:https://montagnerando-fonsegrives.com/events/dimanche-11-decembre-renn
 es-le-chateau/
SUMMARY:Dimanche 11 Décembre = «Sur les traces de l’abbé Saunière» e
 t le Château des Templiers depuis Rennes-le-Château [Aude]
DESCRIPTION:Sentier du Ritou et château des templiers.  Cartes IGN : 2347
  OT\n Présentation de la randonnée :  Point de départ : Parking du ch
 âteau de Rennes-le-château (Aude)\nPanneau d’information sur le parkin
 g\nRennes le château est situé à 120 kms de Fonsegrives (sud de Carcass
 onne)\nCoordonnées GPS : 42° 55’ 59.99’’ / 2° 16’ 0.01’’.\n
 Les différents parcours : Boucle pour marcheurs : Boucle passant par La 
 Pique (très beau point de vue). Boucle de 13 kms\, dénivelé : 400 m (ci
 rcuit bleu). Balisage jaune avec  Pictogramme – Durée : 4h00 de marche
 .\nBoucle Randonneurs : Boucle  Marcheurs + A/R jusqu’au château des t
 empliers Distance : 21 kms\, dénivelé : 750 m (circuit rouge) – Durée
  : 6h30.\nRennes-le-Château\, village  juché sur un piton rocheux\, est
  un belvédère impressionnant avec une vue qui permet d’embrasser tout 
 l’horizon. Occupée par les Gaulois\, puis par les Romains\, Rhedae\, ca
 pitale du Comté du Razès\, fut une place forte à l’époque carolingie
 nne. Successivement propriété du Comté de Barcelone\, Foix et de Carcas
 sonne\, elle fut secouée par de nombreux conflits. A la fin du XIXème si
 ècle\, le village retrouva un souffle de vie grâce à l’Abbé Bérenge
 r Saunière\, nommé prêtre de la paroisse le 1er juillet 1885\, qui y fi
 t une série de grands travaux. D’où tira-t-il ces sommes considérable
 s ? Le mystère reste entier … Le circuit parcourt le Plateau du Lauzet\
 , vaste étendue escarpée\, balayée par les vents et parsemée d’éper
 ons rocheux. Depuis la Pique de la Valdieu\, le point de vue est grandiose
  : le Bugarach\, le Cardou\, le Pic de Brau\, les vallées de la Salz et d
 e la Blanque… avec en point de mire Rennes-le-Château. La végétation 
 ici est de type méditerranéen : thym\, lavande\, arbousiers\, chênes ve
 rts… et contraste avec les paysages environnants. Les marcheurs suivront
  un balisage jaune avec un pictogramme (silhouette de femme) et marcheront
  jusqu’au « La Pique pour le déjeuner (9 kms du départ). Pour les ran
 donneurs\, le circuit de départ suit le même cheminement que les marcheu
 rs : ils quitteront le chemin après 5 kms de marche (altitude 480m)\, pre
 ndre sur la droite en direction de la fontaine des 4 Ritous afin de joindr
 e le château des templiers. Pour le retour prendre le même itinéraire j
 usqu’ à retrouver le sentier balisé qu’ils suivront jusqu’à l’a
 rrivée (tourner à droite).\nMétéo : 08 99 71 02 11.   Office de tour
 isme : 04 68 69 69 85. Secours : 112. Gendarmerie (Couiza) : 04 68 74 00 1
 7\n[sgpx gpx="/wp-content/uploads/gpx/gps rennes le chateau.gpx"]\n[sgpx g
 px="/wp-content/uploads/gpx/RENNES CHATEAU.gpx"]\nPour télécharger le to
 po\, cliquez ici\nLes directives d’animation des Groupes de niveau seron
 t données au départ de la randonnée. Rendez-vous comme d’habitude à 
 6h.45 sur le parking du Complexe P.-Pépi pour un départ effectif à 7 h.
 \nCONSIGNES Choisissez-bien votre Groupe de niveau\, en fonction de la car
 te et du topo disponibles sur le site internet de la Section\, de la mét
 éo prévue et de votre état de forme.\nConsultez et suivez les conseils 
 et recommandations de notre site Internet pour vous y préparer. Munissez-
 vous des équipements individuels minimum suivants\, exigés pour particip
 er en sécurité à cette randonnée pédestre Chaussures de randonnée ad
 aptées\, les « baskets » ne sont pas autorisés\, Vêtements et équipe
 ments de protection contre le froid\, le vent\, la pluie et le soleil\, Ea
 u en quantité suffisante\, repas de déjeuner et vivres de course.\nLes p
 apiers à emballer dans une pochette étanche : Papiers d’identité\, Ca
 rte Vitale\, Carte Mutuelle. N’oubliez pas le cas échéant\, vos médic
 aments personnels\, bâtons\, lunettes…éventuellement votre téléphone
  mobile\, appareil photo… et en tous cas\, votre bonne humeur !\nEN CAS 
 D'ANNULATION Veuillez contacter : Par messagerie aux adresses suivantes: -
  Bernard PORCHERON : porcheron.bernard@wanadoo.fr - Jacques VIGUIÉ : vigu
 iejacques@orange.fr\nPar téléphone auprès de : - Bernard PORCHERON : 05
 .61.80.13.22 ou 06.81.59.25.69 - Jacques VIGUIÉ : 06.70.72.94.76
CATEGORIES:Rando
LOCATION:Sur les traces de l’abbé Saunière et le Château des Templiers
 \, Parking du château de Rennes-le-château \, Rennes-le-Château\, aude\
 , France
GEO:42.926958;2.264226000000008
X-APPLE-STRUCTURED-LOCATION;VALUE=URI;X-ADDRESS=Parking du château de Renn
 es-le-château \, Rennes-le-Château\, aude\, France;X-APPLE-RADIUS=100;X-
 TITLE=Sur les traces de l’abbé Saunière et le Château des Templiers:g
 eo:42.926958,2.264226000000008
END:VEVENT
BEGIN:VTIMEZONE
TZID:Europe/Paris
X-LIC-LOCATION:Europe/Paris
BEGIN:STANDARD
DTSTART:20161030T020000
TZOFFSETFROM:+0200
TZOFFSETTO:+0100
TZNAME:CET
END:STANDARD
END:VTIMEZONE
END:VCALENDAR