BEGIN:VCALENDAR
VERSION:2.0
PRODID:-//wp-events-plugin.com//7.2.2.1//EN
TZID:Europe/Paris
X-WR-TIMEZONE:Europe/Paris
BEGIN:VEVENT
UID:129@montagnerando-fonsegrives.com
DTSTART;TZID=Europe/Paris;VALUE=DATE:20180218
DTEND;TZID=Europe/Paris;VALUE=DATE:20180219
DTSTAMP:20180208T173214Z
URL:https://montagnerando-fonsegrives.com/events/dimanche-11-fevrier-2018-
 randonnee-en-raquettes/
SUMMARY:Dimanche 18 février 2018 = randonnée en raquettes
DESCRIPTION:Nous vous proposons une randonnée en raquettes le dimanche 18 
 février.\nLes participants sont conviés à se présenter à 6h45\, compl
 exe Patrick Pépi à Quint Fonsegrives\, pour un départ du bus à 7h00 pr
 écises.\nla destination exacte dépend de l’enneigement et des conditio
 ns de circulation\; à défaut de neige\, une randonnée pédestre sera pr
 évue. A titre indicatif\, ce pourrait être: Cap du Carmil Tour Lafont /l
 es Monts de Lacaune Picotalen /Pic de Géral /Pic de Tarbésou /Pic d'Esti
 bat /Pic Doulent /Pic du Lion ...\nla destination sera communiquée sur la
  page d'accueil du site le jeudi 15 février\nEN CAS D'ANNULATION\nVeuill
 ez contacter :\nPar messagerie aux adresses suivantes:\n- Bernard PORCHERO
 N : porcheron.bernard@wanadoo.fr - Jacques VIGUIÉ : viguiejacques@orange.
 fr\nPar téléphone auprès de :\n- Bernard PORCHERON : 05.61.80.13.22 ou 
 06.81.59.25.69\n- Jacques VIGUIÉ : 06.70.72.94.76
CATEGORIES:Rando
END:VEVENT
BEGIN:VTIMEZONE
TZID:Europe/Paris
X-LIC-LOCATION:Europe/Paris
BEGIN:STANDARD
DTSTART:20171029T020000
TZOFFSETFROM:+0200
TZOFFSETTO:+0100
TZNAME:CET
END:STANDARD
END:VTIMEZONE
END:VCALENDAR