BEGIN:VCALENDAR
VERSION:2.0
PRODID:-//wp-events-plugin.com//7.2.2.1//EN
TZID:Europe/Paris
X-WR-TIMEZONE:Europe/Paris
BEGIN:VEVENT
UID:219@montagnerando-fonsegrives.com
DTSTART;TZID=Europe/Paris;VALUE=DATE:20211212
DTEND;TZID=Europe/Paris;VALUE=DATE:20211213
DTSTAMP:20211123T223649Z
URL:https://montagnerando-fonsegrives.com/events/dimanche-12-decembre-rand
 onnee-gourmande-a-souillac/
SUMMARY:Dimanche 12 Décembre : Randonnée gourmande à Souillac
DESCRIPTION:Randonnée Gourmande : Circuit de la Durantie \nCarte IGN 2036
  ET\n\nTélécharger le topo - les traces GPX des Marcheurs et Randonneurs
  \n\n\n\n\n\n\n\n\n\n\n\n\nPrésentation de la randonnée\n\n\n\n\n\nPoin
 t de départ :\nParking de la Ferme de Grézelade à LANZAC (46) .\nPren
 dre autoroute A62 direction Montauban puis direction LIMOGES/PARIS A20. So
 rtir à SOUILLAC puis prendre direction CAHORS. La route d’accès à 
 la ferme se trouve dans le village de Lanzac sur la droite (après l’e
 ́glise).\n\nDistance : 178 kms – 2h30\nCoordonnées GPS : 44\,87614N 
 – 1\,47876E -Alt : 80 m.\n\n\nDEPART EN BUS A 7H DEPUIS LE PARKING COMPL
 EXE PATRICK PEPI\n\n\n\n\n\n\n\n\n\n\n\n\n\n\n\n\nLe Parcours :\n\n 	Boucl
 e commune :\nDistance 10\,9 kms\, dénivelé : 290 m\, Temps : 3h 30.\n\
 n\n\n\n\n\n\n\n\n\n\n\n\n\n\n\n\n\n\n\n\n\n\n\n\n\n\n\n\n\n\n\n\n\n\n\n\n\
 n\n\n\n\n\n\n\n\nLe circuit nous mènera vers la Dordogne que nous longer
 ons au niveau de Souillac.\nNous rejoindrons\, en traversant de nouveau la
  Dordogne\, le village de CIEURAC avant d’attaquer une remontée vers n
 otre point de départ en empruntant un chemin boisé. A CIEURAC\, vous p
 ourrez admirer un château\, digne d’un dessin animé de Walt Disney. 
 Pour les amateurs\, ce château est à vendre : 1 280 000 €.\nDes cô
 teaux\, la vallée de la Dordogne s’offrira à vos yeux : Souillac\, s
 on abbatiale\, ses musées (automates\, Vieille Prune) et son viaduc\n\n\
 n\n\n\n\n\n\n\n\n\n\n\n\n\n\nINSCRIPTIONS CLOSES \n\n\n\n\nMétéo : 08 9
 9 71 02 46. Secours : 112\n\n\n
ATTACH;FMTTYPE=image/jpeg:https://montagnerando-fonsegrives.com/wp-content
 /uploads/2021/11/SOUILLAC-ABBATIALE.png
END:VEVENT
BEGIN:VTIMEZONE
TZID:Europe/Paris
X-LIC-LOCATION:Europe/Paris
BEGIN:STANDARD
DTSTART:20211031T020000
TZOFFSETFROM:+0200
TZOFFSETTO:+0100
TZNAME:CET
END:STANDARD
END:VTIMEZONE
END:VCALENDAR