BEGIN:VCALENDAR
VERSION:2.0
PRODID:-//wp-events-plugin.com//7.2.2.1//EN
TZID:Europe/Paris
X-WR-TIMEZONE:Europe/Paris
BEGIN:VEVENT
UID:259@montagnerando-fonsegrives.com
DTSTART;TZID=Europe/Paris;VALUE=DATE:20230212
DTEND;TZID=Europe/Paris;VALUE=DATE:20230213
DTSTAMP:20230208T222735Z
URL:https://montagnerando-fonsegrives.com/events/dimanche-12-fevrier-sorti
 e-raquettes/
SUMMARY:Dimanche 12 Février  : Sortie Raquettes - Cabanes de Campuls et de
  Lee
DESCRIPTION:Sortie en Raquettes - Cabanes de Campuls et de Lee\n\n\n\n\n\n\
 n\n\n\n\n\n\n\n\n\n\n\n\nNous vous proposons une randonnée en raquettes.\
 n\nLes participants sont conviés à se présenter à 7h15\, complexe Patr
 ick Pépi à Quint Fonsegrives\, pour un départ du bus à 7h30 précises.
 \nPour ceux ne disposant pas de raquettes\, le Club loue des raquettes pou
 r la journée ( 2€ - merci d'amener de la monnaie) .\n\nVous pouvez tél
 écharger le topo ainsi que la trace GPX marcheurs et la trace GPX des ran
 donneurs\n\nBeau temps en perspective ... prévoir crème solaire et lunet
 tes de soleil !\n\n\n\n\n\n\n\n\n\n\n\n\n\n\n\n\n\n\nMétéo : 08 99 71 02
  09. Secours : 112\n\n\n
ATTACH;FMTTYPE=image/jpeg:https://montagnerando-fonsegrives.com/wp-content
 /uploads/2022/01/20220130_1217132.jpg
CATEGORIES:Rando
END:VEVENT
BEGIN:VTIMEZONE
TZID:Europe/Paris
X-LIC-LOCATION:Europe/Paris
BEGIN:STANDARD
DTSTART:20221030T020000
TZOFFSETFROM:+0200
TZOFFSETTO:+0100
TZNAME:CET
END:STANDARD
END:VTIMEZONE
END:VCALENDAR