BEGIN:VCALENDAR
VERSION:2.0
PRODID:-//wp-events-plugin.com//7.2.2.1//EN
TZID:Europe/Paris
X-WR-TIMEZONE:Europe/Paris
BEGIN:VEVENT
UID:185@montagnerando-fonsegrives.com
DTSTART;TZID=Europe/Paris;VALUE=DATE:20200112
DTEND;TZID=Europe/Paris;VALUE=DATE:20200113
DTSTAMP:20200111T124134Z
URL:https://montagnerando-fonsegrives.com/events/dimanche-12-janvier-2020-
 pic-arraing/
SUMMARY:Dimanche 12 Janvier 2020 = Pic de l'Arraing
DESCRIPTION:Attention : Départ à 7h30\n\nPour télécharger la carte\, cl
 iquez ici - La carte tracé GPX\, Pic d'Arraing - Pic d'Arraing et Moussa
 u\nPic d’Arraing &amp\; Moussau Carte IGN : 1947 OT\nPrésentation de la
  randonnée : Point de départ : Parking de la base de loisirs de Bonac-Ir
 azein (Ariège) Distance : 127 kms – 2h15.\nCoordonnées GPS : N 42.8755
 9/ 0.97502.\nLe Parcours : • Marcheurs : boucle +A/R jusqu’au Col d’
 Arraing avec retour par Irazein. Distance : 8\,9 kms\, dénivelé : 630 m\
 , Temps : 4h 30. • Randonneurs : Aller/Retour jusqu’au Pic de Moussau 
 via Pic d’Arraing. Distance 10\,8 kms\, dénivelé : 1020 m\, Temps : 5h
  10.\nBonac\, commune de montagne\, est située dans les Pyrénées centra
 les en Couserans\, vallée du Biros au sud-ouest du département en Castil
 lonnais. Elle fait partie du parc naturel régional des Pyrénées ariége
 oises et est frontalière avec l'Espagne. Ce village fut habité par une p
 opulation supérieure à 1000 âmes : la proximité de mines de cuivre\, p
 lomb et zinc explique cette population. A proximité du port d'Orle (2 318
  m)\, la mine de la Mail de Bulard\, dite "la mangeuse d'hommes"\, était 
 la plus haute d'Europe à 2 350 m et exploitée dans des conditions extrê
 mes. En dépit de son altitude modeste\, le pic de l'Arraing offre un somp
 tueux panorama sur la chaine des Pyrénées. La montée jusqu’au Pic de 
 Moussau représente un effort non négligeable : 1000 m en moins de 5 kms.
 \nMétéo : 08 99 71 02 09. Secours : 112.\nCONSEILS PRATIQUES\nMunissez-v
 ous des équipements individuels minimum suivants\, exigés pour participe
 r en sécurité à cette randonnée :\n– Chaussures de randonnée adapt
 ées\, les « baskets » ne sont pas autorisés\,\n– Vêtements et équi
 pements de protection\, bonnet\, gants\, bâtons\, guêtres ..\n– Eau en
  quantité suffisante\, repas de déjeuner et vivres de course\,\nN’oubl
 iez pas\, vos médicaments personnels\, éventuellement votre téléphone 
 mobile\, appareil photo… et surtout n’oubliez pas votre crème solaire
 \, vos lunettes… et votre bonne humeur !\nEN CAS D’ANNULATION\nVeuille
 z contacter :\nPar messagerie aux adresses suivantes:\n– Bernard PORCHER
 ON : porcheron.bernard@wanadoo.fr – Jacques VIGUIÉ : viguiejacques@oran
 ge.fr\nPar téléphone auprès de :\n– Bernard PORCHERON : 05.61.80.13.2
 2 ou 06.81.59.25.69\n– Jacques VIGUIÉ : 06.70.72.94.76
CATEGORIES:Rando
END:VEVENT
BEGIN:VTIMEZONE
TZID:Europe/Paris
X-LIC-LOCATION:Europe/Paris
BEGIN:STANDARD
DTSTART:20191027T020000
TZOFFSETFROM:+0200
TZOFFSETTO:+0100
TZNAME:CET
END:STANDARD
END:VTIMEZONE
END:VCALENDAR