BEGIN:VCALENDAR
VERSION:2.0
PRODID:-//wp-events-plugin.com//7.2.2.1//EN
TZID:Europe/Paris
X-WR-TIMEZONE:Europe/Paris
BEGIN:VEVENT
UID:115@montagnerando-fonsegrives.com
DTSTART;TZID=Europe/Paris;VALUE=DATE:20171111
DTEND;TZID=Europe/Paris;VALUE=DATE:20171112
DTSTAMP:20171202T120400Z
URL:https://montagnerando-fonsegrives.com/events/dimanche-12-novembre-rand
 onnee-pedestre-cretes-de-camurac-2/
SUMMARY:Samedi 11 Novembre : Randonnée pédestre – Crêtes de Camurac
DESCRIPTION:Dimanche 12 Novembre 2017 – Crêtes de Camurac - Cartes IGN 
 : 2148 ET - Coordonnées GPS : LAT/LNG 42\,783160 /1\,386290\nLes différe
 nts parcours : • Aller/retour pour Marcheurs 2 : Col de Balaguès (1669 
 m) 11\, 7kms\, dénivelé : 500 m\, Temps : 5h30 \n• Boucle pour Marcheu
 rs 1 : Col de Pichaca (1319m)\, de Balaguès (1669m)\, Roc de Quercourt (1
 820m). 14\,2 kms\, dénivelé : 680 m\, Temps : 6h00 \n• Boucle pour Ran
 donneurs : Col de Pichaca (1319m)\, de Balaguès (1669m)\, Roc de Quercour
 t (1820m). 14\,2 à 16 kms\, dénivelé : 680 m à 950 m selon les options
  choisies (circuit rouge)\, Temps : 6h à 7h. Météo : 08 99 71 02 09. Se
 cours Ariège : 112. PGHN : 05 61 64 22 58.\nAvec une altitude oscillant e
 ntre 1200 &amp\; 1900m\, les crêtes de Camurac sont particulièrement pro
 pices à de belles randonnées estivales\, lorsque les chaleurs étouffent
  les plaines. Ce parcours au pays d’Ailou\, entre Ariège et Aude\, perm
 et de profiter du charme des estives et de superbes panoramas sur les envi
 rons. Du site cathare de Montaillou à la station de ski de Camurac\, un p
 arcours d’abord boisé\, puis en balcon à travers champs de myrtilles e
 t prairies d’altitude. A partir du Roc de Quercourt (1820m)\, la vue s
 ’élargit sur 360° sur le plateau de Sault et les sommets pyrénéens. 
 Camurac est une station de ski alpin (11 pistes\,5 téléskis)\, de fonds 
 et raquettes (7 kms)\, située dans le département de l’Aude. Au cours 
 de la randonnée\, nous basculerons rapidement dans le département de l
 ’Ariège dès le village cathare de Montaillou (certains cathares vinren
 t se retirer dans ce village après le massacre de la forteresse de Monts
 égur.\nDeux randonnées sont proposées :  Le circuit des Marcheurs 2 (t
 racé bleu sur la carte) est un aller-retour de Camurac jusqu’au Col de 
 Balaguès. Le circuit\, trace rouge sur la carte\, est commun aux marcheur
 s 1 et aux randonneurs. Pour les plus courageux quelques options sont prop
 osées\, entre le Col de Balagès et le Roc de Quercourt\, afin d’améli
 orer la vue sur le panorama offert : • Roc du Pic de Ber (1740 m) • Pi
 c de Doulent (1780 m) – 1\,2 kms A/R • Roc de la Taillade (1808 m). To
 utes ces options se trouvent au Sud du parcours.\n\n\n\n[sgpx gpx="/wp-con
 tent/uploads/gpx/camurac 3 marcheurs2.gpx"][sgpx gpx="/wp-content/uploads/
 gpx/camurac3 rando.gpx"]\nPour télécharger le topo\, cliquez ici\n\n\n\
 nCONSEILS PRATIQUES\nMunissez-vous des équipements individuels minimum su
 ivants\, exigés pour participer en sécurité à cette randonnée :\n– 
 Chaussures de randonnée adaptées\, les « baskets » ne sont pas autoris
 és\,\n– Vêtements et équipements de protection\, bonnet\, gants\, bâ
 tons\, guêtres ..\n– Eau en quantité suffisante\, repas de déjeuner e
 t vivres de course\,\nN’oubliez pas\, vos médicaments personnels\, éve
 ntuellement votre téléphone mobile\, appareil photo… et surtout n’ou
 bliez pas votre crème solaire\, vos lunettes… et votre bonne humeur !\n
 EN CAS D’ANNULATION\nVeuillez contacter :\nPar messagerie aux adresses s
 uivantes:\n– Bernard PORCHERON : porcheron.bernard@wanadoo.fr – Jacque
 s VIGUIÉ : viguiejacques@orange.fr\nPar téléphone auprès de :\n– Ber
 nard PORCHERON : 05.61.80.13.22 ou 06.81.59.25.69\n– Jacques VIGUIÉ : 0
 6.70.72.94.76\n
CATEGORIES:Rando
END:VEVENT
BEGIN:VTIMEZONE
TZID:Europe/Paris
X-LIC-LOCATION:Europe/Paris
BEGIN:STANDARD
DTSTART:20171029T020000
TZOFFSETFROM:+0200
TZOFFSETTO:+0100
TZNAME:CET
END:STANDARD
END:VTIMEZONE
END:VCALENDAR