BEGIN:VCALENDAR
VERSION:2.0
PRODID:-//wp-events-plugin.com//7.2.2.1//EN
TZID:Europe/Paris
X-WR-TIMEZONE:Europe/Paris
BEGIN:VEVENT
UID:107@montagnerando-fonsegrives.com
DTSTART;TZID=Europe/Paris;VALUE=DATE:20171112
DTEND;TZID=Europe/Paris;VALUE=DATE:20171113
DTSTAMP:20171120T173636Z
URL:https://montagnerando-fonsegrives.com/events/dimanche-12-novembre-rand
 onnee-pedestre-cretes-de-camurac/
SUMMARY:Dimanche 12 novembre = Randonnée pédestre -  GRUISSAN  - Son éta
 ng\, La Capoulade et la Tour de Barberousse
DESCRIPTION:Carte IGN : 2546 OT\nPrésentation de la randonnée :  Point d
 e départ : Parking en bord d’étang Avenue du Gal Azibert Gruissan. Se 
 trouve à 165 kms de Toulouse\, 2H00 de route.  Coordonnées GPS : LAT/LN
 G  43\,105310 /3\,085760 Les différents parcours :\n• Boucle commune p
 our tout le monde : 13\,9 kms\, dénivelé : 110 m Durée : 4h10 \nGruiss
 an est une station balnéaire languedocienne qui a su conserver le charme 
 de ses racines. Cette randonnée vous propose d'explorer l’Étang de Gru
 issan avec une promenade au fil de l'eau où vous pourrez découvrir l’
 écosystème des terres humides. Une escapade dans les contreforts du mass
 if de la Clape autour du domaine de la Capoulade vous offrira des panorama
 s enchanteurs. Enfin\, flâner dans l'ancien Gruissan et visiter la Tour B
 arberousse peuvent être le conclusion d'une belle journée.\nMétéo : 08
  99 71 02 11.  Secours :  112\n\n\n\n[sgpx gpx="/wp-content/uploads/gpx/
 Etg de Gruissan.gpx"]\nPour télécharger le topo : [ddownload id="7876" 
 text="cliquez ici" style="link"]\n\n\n\nCONSEILS PRATIQUES\nMunissez-vous 
 des équipements individuels minimum suivants\, exigés pour participer en
  sécurité à cette randonnée raquettes :\n– Chaussures de randonnée 
 adaptées\, les « baskets » ne sont pas autorisés\,\n– Vêtements et 
 équipements de protection\, bonnet\, gants\, bâtons\, guêtres ..\n– E
 au en quantité suffisante\, repas de déjeuner et vivres de course\,\nN
 ’oubliez pas\, vos médicaments personnels\, éventuellement votre tél
 éphone mobile\, appareil photo… et surtout n’oubliez pas votre crème
  solaire\, vos lunettes… et votre bonne humeur !\nEN CAS D’ANNULATION\
 nVeuillez contacter :\nPar messagerie aux adresses suivantes:\n– Bernard
  PORCHERON : porcheron.bernard@wanadoo.fr – Jacques VIGUIÉ : viguiejacq
 ues@orange.fr\nPar téléphone auprès de :\n– Bernard PORCHERON : 05.61
 .80.13.22 ou 06.81.59.25.69\n– Jacques VIGUIÉ : 06.70.72.94.76
CATEGORIES:Rando
END:VEVENT
BEGIN:VTIMEZONE
TZID:Europe/Paris
X-LIC-LOCATION:Europe/Paris
BEGIN:STANDARD
DTSTART:20171029T020000
TZOFFSETFROM:+0200
TZOFFSETTO:+0100
TZNAME:CET
END:STANDARD
END:VTIMEZONE
END:VCALENDAR