BEGIN:VCALENDAR
VERSION:2.0
PRODID:-//wp-events-plugin.com//7.2.2.1//EN
TZID:Europe/Paris
X-WR-TIMEZONE:Europe/Paris
BEGIN:VEVENT
UID:209@montagnerando-fonsegrives.com
DTSTART;TZID=Europe/Paris;VALUE=DATE:20210912
DTEND;TZID=Europe/Paris;VALUE=DATE:20210913
DTSTAMP:20210906T141458Z
URL:https://montagnerando-fonsegrives.com/events/dimanche-12-septembre-tou
 r-du-courbas-et-des-villages-ariege/
SUMMARY:Dimanche 12 Septembre : Tour du Courbas et des villages (Ariège)
DESCRIPTION:Tour du Courbas et des villages\nCarte IGN 2147-2148 ET\n\nTél
 écharger le topo - les traces GPX des Marcheurs  et des Randonneurs \n\
 n\n\nPrésentation de la randonnée\nPoint de départ :\n\n\n\n\n\n\n\nEn 
 direction d'Ax-les-Thermes\, quitter la N20 pour tourner à gauche vers L
 uzenac. Se garer avant le pont sur la droite de la route.\n\n\n\n\n\nDista
 nce : 113 kms – 1h40.\nCoordonnées GPS : 42.77359 N/ 1.70359 E Alt. : 5
 77m.\n\n\nDEPART EN BUS A 7H DEPUIS LE PARKING COMPLEXE PATRICK PEPI\nLe P
 arcours :\n\n 	Marcheurs : Boucle allant de village en village (6)\nDistan
 ce : 13 kms\, dénivelé : 437 m\, Durée : 5h00\n 	Randonneurs : Boucle
  allant de village en village (9)\nDistance 15\,2 kms\, dénivelé : 560
  m\, Durée : 5h30\n\n&nbsp\;\n\n\n\n\n\n\n\n\nL'itinéraire emprunte sur
  d'assez courtes distance des routes goudronnées. Celle-ci sont très p
 eu fréquentées à l'exception de la D20 (route des crêtes) entre Ax
 iat et Caychax en saison estivale.\nQuoiqu'il en soit\, respecter les cons
 ignes de prudence habituelles.\nChaussures de randonnée à tige haute e
 t bâtons conseillés: plusieurs tronçons caillouteux et en forte pent
 e.\n\nPlusieurs fontaines sur le parcours dont certaines portent la mentio
 n "Eau non potable". Quant aux autres\, la "potabilité" n'a pas été v
 érifiée par l’auteur.\n\nLa fin du parcours est assez éprouvante c
 ar venant après plusieurs heures de marche. Garder les réserves physiq
 ues nécessaires.\n\n\n\n\n\n\n\n\n\n&nbsp\;\n\n\n\n\n\n\n\n&nbsp\;\n\nM
 étéo : 08 99 71 02 09. Secours : 112\nMerci de confirmer votre inscripti
 on avant Mercredi 8 Septembre 20h00\n
ATTACH;FMTTYPE=image/jpeg:https://montagnerando-fonsegrives.com/wp-content
 /uploads/2021/09/Château-de-Lordat-620x310-1.jpeg
CATEGORIES:Rando
END:VEVENT
BEGIN:VTIMEZONE
TZID:Europe/Paris
X-LIC-LOCATION:Europe/Paris
BEGIN:DAYLIGHT
DTSTART:20210328T030000
TZOFFSETFROM:+0100
TZOFFSETTO:+0200
TZNAME:CEST
END:DAYLIGHT
END:VTIMEZONE
END:VCALENDAR