BEGIN:VCALENDAR
VERSION:2.0
PRODID:-//wp-events-plugin.com//7.2.2.1//EN
TZID:Europe/Paris
X-WR-TIMEZONE:Europe/Paris
BEGIN:VEVENT
UID:224@montagnerando-fonsegrives.com
DTSTART;TZID=Europe/Paris;VALUE=DATE:20220313
DTEND;TZID=Europe/Paris;VALUE=DATE:20220314
DTSTAMP:20220310T094927Z
URL:https://montagnerando-fonsegrives.com/events/dimanche-13-mars-randonne
 e-en-raquettes/
SUMMARY:Dimanche 13 Mars - Randonnée à St Géry dans le Lot
DESCRIPTION:La neige faisant toujours défaut sur les Pyrénées\, le burea
 u a décidé de déprogrammer la sortie raquettes prévue ce dimanche 13 M
 ars et de la remplacer par une randonnée pédestre.\nLa destination chois
 ie est Saint Gery dans le Lot avec un parcours commun (environ 15km de dis
 tance pour 600 m de dénivelé) pour les marcheurs et les randonneurs.\nLe
  topo du parcours et la trace GPX \nLes inscriptions sont ré-ouvertes ju
 squ'à Vendredi 11 Mars 20h00.\nPas de changement d'horaire de départ : L
 es participants sont conviés à se présenter à 7h15\, complexe Patrick 
 Pépi à Quint Fonsegrives\, pour un départ du bus à 7h30 (horaire d'hiv
 er)\n\n&nbsp\;
END:VEVENT
BEGIN:VTIMEZONE
TZID:Europe/Paris
X-LIC-LOCATION:Europe/Paris
BEGIN:STANDARD
DTSTART:20211031T020000
TZOFFSETFROM:+0200
TZOFFSETTO:+0100
TZNAME:CET
END:STANDARD
END:VTIMEZONE
END:VCALENDAR