BEGIN:VCALENDAR
VERSION:2.0
PRODID:-//wp-events-plugin.com//7.2.2.1//EN
TZID:Europe/Paris
X-WR-TIMEZONE:Europe/Paris
BEGIN:VEVENT
UID:175@montagnerando-fonsegrives.com
DTSTART;TZID=Europe/Paris;VALUE=DATE:20191013
DTEND;TZID=Europe/Paris;VALUE=DATE:20191014
DTSTAMP:20191005T091000Z
URL:https://montagnerando-fonsegrives.com/events/dimanche-13-octobre-rando
 nnee-pedestre-lacs-et-cirque-des-pessons-andorre/
SUMMARY:Dimanche 13 Octobre 2019 = Randonnée Pédestre (Lacs et Cirque des
  Pessons) [Andorre]
DESCRIPTION:Dans un site superbe\, une randonnée débonnaire et très agr
 éable aux attraits variés : une kyrielle de lacs\, et au fond un cirque
  impressionnant aux crêtes découpées.\nLacs\, cirque\, col de Pessons C
 arte : Serie E-0.140.000 Ed. Alpina.\nPour télécharger le topo\, clique
 z ici - La carte GPX\,  cliquez ici\nPrésentation de la randonnée : Poi
 nt de départ : Station de ski de Grau Roig (Andorre) : parking el cubil S
 e trouve à 168 kms de QUINT-FONSEGRIVES – 2h 30 mn. Coordonnées GPS : 
 LAT/LNG\n42\,5318695/ 1\,6976293 (Alt. 2103m).\nLe parcours : • Boucle M
 archeurs : Lacs et cirque de Pessons. Distance : 10 kms\, dénivelé : 500
  m\, Durée : 4h 00 • Boucle Randonneurs : Lacs\, cirque et col de Pesso
 ns. Distance : 12 kms\, dénivelé : 700 m\, Durée : 5h 15\nExcursion ave
 c un itinéraire graduel et modéré qui peut s'adapter à tout le monde.\
 nÀ l'extrême nord-est de la Paroisse d'Encamp\, en escaladant le col d'E
 nvalira\, nous voyons sur la droite les lacs et le cirque de Pessons. Il s
 'agit d'un magnifique cirque glaciaire où nous pourrons profiter du plus 
 grand ensemble lacustre d'Andorre. Le cirque est entouré de célèbres so
 mmets comme le pic de Pessons\, le pic de Ríbuls\, le Montmalús.... tous
  à près de 2800 m d'altitude. Le lieu est très fréquenté et populaire
  en raison de sa richesse naturelle et de son accès facile. Nous trouvero
 ns cependant dans cette vallée des endroits où nous pourrons apprécier 
 des paysages magnifiques et les eaux cristallines de ses lacs de haute mon
 tagne\nEn arrivant au parking Grau Roig\, nous pouvons déjà voir en face
  toutes les montagnes qui encerclent et enferment les lacs du cirque de Pe
 ssons. Le cirque est formé de sept lacs principaux et de nombreuses lagun
 es saisonnières L'itinéraire que nous vous proposons relie tous ces lacs
  par l'axe principal du cirque.\nSecours : 112.\nCONSEILS PRATIQUES\nMunis
 sez-vous des équipements individuels minimum suivants\, exigés pour part
 iciper en sécurité à cette randonnée :\n– Chaussures de randonnée a
 daptées\, les « baskets » ne sont pas autorisés\,\n– Vêtements et 
 équipements de protection\, bonnet\, gants\, bâtons\, guêtres ..\n– E
 au en quantité suffisante\, repas de déjeuner et vivres de course\,\nN
 ’oubliez pas\, vos médicaments personnels\, éventuellement votre tél
 éphone mobile\, appareil photo… et surtout n’oubliez pas votre crème
  solaire\, vos lunettes… et votre bonne humeur !\nEN CAS D’ANNULATION\
 nVeuillez contacter :\nPar messagerie aux adresses suivantes:\n– Bernard
  PORCHERON : porcheron.bernard@wanadoo.fr – Jacques VIGUIÉ : viguiejacq
 ues@orange.fr\nPar téléphone auprès de :\n– Bernard PORCHERON : 05.61
 .80.13.22 ou 06.81.59.25.69\n– Jacques VIGUIÉ : 06.70.72.94.76
CATEGORIES:Rando
END:VEVENT
BEGIN:VTIMEZONE
TZID:Europe/Paris
X-LIC-LOCATION:Europe/Paris
BEGIN:DAYLIGHT
DTSTART:20190331T030000
TZOFFSETFROM:+0100
TZOFFSETTO:+0200
TZNAME:CEST
END:DAYLIGHT
END:VTIMEZONE
END:VCALENDAR