BEGIN:VCALENDAR
VERSION:2.0
PRODID:-//wp-events-plugin.com//7.2.2.1//EN
TZID:Europe/Paris
X-WR-TIMEZONE:Europe/Paris
BEGIN:VEVENT
UID:194@montagnerando-fonsegrives.com
DTSTART;TZID=Europe/Paris;VALUE=DATE:20200913
DTEND;TZID=Europe/Paris;VALUE=DATE:20200914
DTSTAMP:20200904T170649Z
URL:https://montagnerando-fonsegrives.com/events/dimanche-13-septembre-cir
 que-de-campuls-pic-du-midi-de-bordes/
SUMMARY:Dimanche 13 septembre = Cirque de Campuls - Pic du Midi de Bordes
DESCRIPTION:Cirque de Campuls - Pic du Midi de Bordes Carte IGN : 2048 OT\n
 \nTélécharger le topo ici - les parcours GPX : Trace Pic de Bordes Rand 
 - Trace cirque campuls March\nPrésentation de la randonnée : Point de d
 épart : Depuis Toulouse\, direction Saint Girons\, Castillon direction co
 l de Core puis étang de Bethmale.\nDistance : 134 kms – 2h15.. Coordonn
 ées GPS : 42.51083 N/ 1.5012 E\nLe Parcours : • A/R Marcheurs : depuis 
 l’étang de Bethmale rejoindre le cirque de Campuls. Distance : 12\,5 km
 s\, dénivelé : 600 m\, Temps : 5h 00. Possibilité de s’arrêter à la
  cabane de Campuls : Distance : 10 kms \; Dénivelé : 426 m • Boucle Ra
 ndonneurs : depuis l’étang de Bethmale rejoindre la cabane de Campuls\n
 puis celle de Lee pour atteindre enfin le Pic du Midi de Bordes (1762m)\nD
 istance 16\,1 kms\, dénivelé : 980 m\, Temps : 6h 45.\nUn parcours sans 
 difficulté à travers la magnifique forêt de la vallée de Bethmale. La 
 cabane de Campuls nous accueille pour une pause repas au cœur du beau cir
 que éponyme.\nUn beau panorama attend les plus courageux qui voudront att
 eindre le Pic du Midi de Bordes.\nMétéo : 08 99 71 02 09. Secours : 112\
 n\nLes inscriptions sont ouvertes.
CATEGORIES:Rando
END:VEVENT
BEGIN:VTIMEZONE
TZID:Europe/Paris
X-LIC-LOCATION:Europe/Paris
BEGIN:DAYLIGHT
DTSTART:20200329T030000
TZOFFSETFROM:+0100
TZOFFSETTO:+0200
TZNAME:CEST
END:DAYLIGHT
END:VTIMEZONE
END:VCALENDAR