BEGIN:VCALENDAR
VERSION:2.0
PRODID:-//wp-events-plugin.com//7.2.2.1//EN
TZID:Europe/Paris
X-WR-TIMEZONE:Europe/Paris
BEGIN:VEVENT
UID:141@montagnerando-fonsegrives.com
DTSTART;TZID=Europe/Paris;VALUE=DATE:20190414
DTEND;TZID=Europe/Paris;VALUE=DATE:20190415
DTSTAMP:20190418T161210Z
URL:https://montagnerando-fonsegrives.com/events/dimanche-14-avril-2019-ra
 ndonnee-pedestre/
SUMMARY:Dimanche 14 avril 2019 = Randonnée Pédestre - LES TROIS VALLÉES
DESCRIPTION:Les Trois Vallées - ALBAS - Carte IGN : 2038 OT\nPour téléch
 arger le topo\, cliquez ici\n[sgpx gpx="/wp-content/uploads/gpx/Les 3 vall
 ées Albas.gpx"]\nPrésentation de la randonnée : Point de départ : Park
 ing à ALBAS près de l’église. Se trouve à 138 kms de Toulouse : auto
 route Cahors Sud puis direction ALBAS via Villesèque et Sauzet\, 2H00 de 
 route. Coordonnées GPS : LAT/LNG 44\,47012 N / 1\,23625 E\nLes différent
 s parcours : • Boucle Randonneurs : Distance : 14\,7 kms\, dénivelé : 
 420 m\, Durée : 4h 30\nAux confins des dernières pentes du Massif Centra
 l\, Albas-Bourg\, berceau du vin de Cahors\, était un port et une place f
 orte. Cette vieille bourgade épiscopale édifiée sur la falaise\, rive g
 auche\, au-dessus du Lot\, forme un site des plus pittoresques en aval de 
 Cahors\, entre Luzech et Prayssac.\nCette randonnée sportive vaut vraimen
 t la peine d’être parcouru. Vous irez de vallées en causses et découv
 rirez des paysages fabuleux. Vous serez récompensés de votre effort avec
  un magnifique panorama sur la vallée du lot (table d’orientation). Les
  sols calcaires du causse ne savent pas retenir l’eau. Sitôt tombée du
  ciel\, celle-ci pénètre dans les failles de la roche et se perd dans le
 s profondeurs. Elle y forme des rivières qui ressurgissent parfois à de 
 longues distances\, au contact d’une poche argileuse. Dans la vallée du
  lot\, les eaux qui pénètrent dans le sol s’écoulent le long du versa
 nt et forment rapidement des ruisseaux qui jaillissent soudain de terre\, 
 quelques heures après la pluie. C’est le cas au lieu-dit « Les Payrols
  » où au fond d’une vallée moussue et peuplée de buis\, un ruisseau 
 intermittent a formé une suite pittoresque de vasques s’étageant sur u
 ne dizaine de mètres de hauteur. Par beau temps\, elles se vident\, mais 
 qu’un orage survienne et l’eau se met à courir en cascade.\nMétéo :
  08 99 71 02 46. Secours : 112.\nCONSEILS PRATIQUES\n Munissez-vous des é
 quipements individuels minimum suivants\, exigés pour participer en sécu
 rité à cette randonnée :\n– Chaussures de randonnée adaptées\, les 
 « baskets » ne sont pas autorisés\,\n– Vêtements et équipements de 
 protection\, bonnet\, gants\, bâtons\, guêtres ..\n– Eau en quantité 
 suffisante\, repas de déjeuner et vivres de course\,\nN’oubliez pas\, v
 os médicaments personnels\, éventuellement votre téléphone mobile\, ap
 pareil photo… et surtout n’oubliez pas votre crème solaire\, vos lune
 ttes… et votre bonne humeur !\nEN CAS D’ANNULATION\nVeuillez contacter
  :\nPar messagerie aux adresses suivantes:\n– Bernard PORCHERON : porche
 ron.bernard@wanadoo.fr – Jacques VIGUIÉ : viguiejacques@orange.fr - Sib
 ottier Dominique : dominiquesibottier@orange.fr\nPar téléphone auprès d
 e :\n– Bernard PORCHERON : 05.61.80.13.22 ou 06.81.59.25.69\n– Jacques
  VIGUIÉ : 06.70.72.94.76
CATEGORIES:Rando
END:VEVENT
BEGIN:VTIMEZONE
TZID:Europe/Paris
X-LIC-LOCATION:Europe/Paris
BEGIN:DAYLIGHT
DTSTART:20190331T030000
TZOFFSETFROM:+0100
TZOFFSETTO:+0200
TZNAME:CEST
END:DAYLIGHT
END:VTIMEZONE
END:VCALENDAR