BEGIN:VCALENDAR
VERSION:2.0
PRODID:-//wp-events-plugin.com//7.2.2.1//EN
TZID:Europe/Paris
X-WR-TIMEZONE:Europe/Paris
BEGIN:VEVENT
UID:202@montagnerando-fonsegrives.com
DTSTART;TZID=Europe/Paris;VALUE=DATE:20210314
DTEND;TZID=Europe/Paris;VALUE=DATE:20210315
DTSTAMP:20210307T192743Z
URL:https://montagnerando-fonsegrives.com/events/dimanche-14-mars-oppidum-
 de-berniquaut/
SUMMARY:Dimanche 14 Mars : Oppidum de BERNIQUAUT
DESCRIPTION:SOREZE : Oppidum de BERNIQUAUT\nCarte IGN 2344 OT\n\nTéléchar
 ger le topo - les traces GPX des Marcheurs  et des Randonneurs\n\n\n\n\n\
 n\n\n\n\n\n\n\nPrésentation de la randonnée\n\n\n\n\n\nPoint de départ 
 :\n\n\n\n\n\n\nParking à droite du 1er rond-point à l’entrée de So
 rèze (indication par panneau) .\nDistance : 52 kms – 1h05.\n\n\n\n\n\n
 Coordonnées GPS : 43.45028 N/ 2.06614 E Alt. : 272m.\n\n\nSORTIE EN CO-VO
 ITURAGE - RENDEZ-VOUS SUR LE PARKING DE SOREZE A 9H\n\n\n\n\n\n\n\n\n\n\n\
 n\n\n\n\n\nLe Parcours :\n\n 	Boucle Marcheurs : Distance : 15\,2 kms\, de
 ́nivelé : 500 m\, Temps : 5h 15\n 	Boucle Randonneurs : Distance 16\,7 
 kms\, dénivelé : 530 m\, Temps : 5h 45\n\n\n\n\n\n\n\n\n\n\n\n\n\n\n\n
 \n\n\n\n\n\n\n\n\n\n\n\n\n\n\n\n\n\n\n\n\n\n\n\n\n\n\n\n\n\n\n\n\n\n\nNé
 e de la fondation dune abbaye en 754\, la cité de Sorèze se développ
 e autour de l’établissement bénédictin au détriment de la forter
 esse de Berniquaut. Notre-Dame-de-la-Sagne est l’élément essentiel a
 ̀ la croissance de Sorèze.\n\nLes aléas de l’histoire ont marqué 
 le village. L’abbaye subit plusieurs destructions au Moyen Age et pendan
 t les guerres de Religion. Il n’est pas rare de retrouver des pierres de
  réemploi comme des mordillons ou de chapiteaux sur les façades des ma
 isons de Sorèze. L’abbaye est reconstruite et devient une école dè
 s 1685 et fermée en 1991. Le succès de l’école engendre l’agrand
 issement des édifices dans une architecture néo-classique monumentale.
  Observez les belles façades de l’abbaye rue saint Martin et les cours
  d’honneur rue Lacordaire.\n\nCertaines maisons datent du moyen-Age. D
 ’autres demeures bourgeoises font démonstration de belles façades a
 ̀ colombages et à encorbellements\, structures légères et adaptée
 s au sol marécageux. Briques pour les hourdis\, bois de la Montagne Noir
 e.\n\nAutre vestige du Moyen-Age : clocher Saint Martin\, témoin de l’
 ancienne église paroissiale de Sorèze construite au XVème siècle..
 \n\n\n\n\n\n\n\n\n\n\n\n\n\n\n\n\n\n\n\nMétéo : 08 99 71 02 81. Secours 
 : 112\nMerci de confirmer votre inscription avant Vendredi 12 Mars 18h00\n
ATTACH;FMTTYPE=image/jpeg:https://montagnerando-fonsegrives.com/wp-content
 /uploads/2020/10/StBarth220.jpg
CATEGORIES:Rando
END:VEVENT
BEGIN:VTIMEZONE
TZID:Europe/Paris
X-LIC-LOCATION:Europe/Paris
BEGIN:STANDARD
DTSTART:20201025T020000
TZOFFSETFROM:+0200
TZOFFSETTO:+0100
TZNAME:CET
END:STANDARD
END:VTIMEZONE
END:VCALENDAR