BEGIN:VCALENDAR
VERSION:2.0
PRODID:-//wp-events-plugin.com//7.2.2.1//EN
TZID:Europe/Paris
X-WR-TIMEZONE:Europe/Paris
BEGIN:VEVENT
UID:231@montagnerando-fonsegrives.com
DTSTART;TZID=Europe/Paris;VALUE=DATE:20220515
DTEND;TZID=Europe/Paris;VALUE=DATE:20220516
DTSTAMP:20220507T082534Z
URL:https://montagnerando-fonsegrives.com/events/dimanche-15-mai-les-etang
 s-du-picot/
SUMMARY:Dimanche 15 Mai : Les étangs du Picot
DESCRIPTION:ETANGS DU PICOT depuis le barrage de SOULCEM\nCarte IGN 2446 OT
 \n\nTélécharger le topo - la trace GPX\n\n\n\n\n\n\n\n\n\n\n\n\nPrésent
 ation de la randonnée\n\n\n\n\n\nPoint de départ :\nSortie en covoiturag
 e.\nRejoindre FOIX puis continuer sur la N20\, passer Tarascon et tourner 
 à droite vers Auzat.\nLe dépasser et suivre les panneaux indiquant tan
 tôt Mounicou tantôt Soulcem. Se stationner au niveau du barrage.\nDist
 ance : 132 kms – 1h45.\nCoordonnées GPS : 42\,677942 – 1\,452559  -
  alt : 1574m\n\nRENDEZ-VOUS DES VOITURES À 07H00 SUR LE PARKING COMPLEXE 
 PATRICK PEPI ET FINALISATION DU CO-VOITURAGE\n\n\n\n\n\n\n\n\n\n\n\n\n\n\n
 \n\nLe Parcours :\n\n 	Aller/retour commun :\nDistance 10\,3 kms\, déniv
 elé : 960 m\, Temps : 5h 45.\n\n\n\n\n\n\n\n\n\n\n\n\n\n\n\n\n\n\n\n\n\n
 \n\n\n\n\n\n\n\n\n\n\n\n\n\n\n\n\n\n\n\n\n\n\n\n\n\n\n\n\n\n\n\nUne belle 
 randonnée dans la vallée de Mounicou (Soulcem) qui invite à la conte
 mplation des quatre étangs du Picot peu fréquentés.\nL’objectif de
  cette journée est la découverte de ces quatre étangs !\nSi les deux
  premiers sont plutôt anecdotiques\, le 3ème et le 4ème ont un charm
 e qui agit aussitôt qu’on les découvre et vous récompensent des ef
 forts alors fournis.\nSous le pic du Picot\, disposés en étages\, ces 
 étangs méritent bien une visite. Au printemps les massifs de rhododend
 rons en fleurs égaient la montée parfois rude et font oublier qu’il 
 y a quand même un dénivelé important à gravir. D’étape en ét
 ape\, on parvient au dernier étang\, lové dans un austère cirque roc
 heux sous les sommets du Picot et du Malcaras. La descente s’effectue fa
 ce au fabuleux panorama de la chaine des Pyrénées qui s’étale à 
 l’Ouest du Pic de Canalbonne au Pic des Trois Comptes.\n\n\n\n\n\n\n\n\n
 \n\n\n\n\n\n\nMerci de confirmer votre inscription avant Mercredi 11 Mai 1
 9h00\n\nRESERVATIONS OUVERTES À PARTIR du Samedi 7 Mai\n\n\n\n\nMétéo :
  08 99 71 02 09. Secours : 112\n\n\n
ATTACH;FMTTYPE=image/jpeg:https://montagnerando-fonsegrives.com/wp-content
 /uploads/2022/05/Etangs-Picot-paysage.png
END:VEVENT
BEGIN:VTIMEZONE
TZID:Europe/Paris
X-LIC-LOCATION:Europe/Paris
BEGIN:DAYLIGHT
DTSTART:20220327T030000
TZOFFSETFROM:+0100
TZOFFSETTO:+0200
TZNAME:CEST
END:DAYLIGHT
END:VTIMEZONE
END:VCALENDAR