BEGIN:VCALENDAR
VERSION:2.0
PRODID:-//wp-events-plugin.com//7.2.2.1//EN
TZID:Europe/Paris
X-WR-TIMEZONE:Europe/Paris
BEGIN:VEVENT
UID:103@montagnerando-fonsegrives.com
DTSTART;TZID=Europe/Paris;VALUE=DATE:20171015
DTEND;TZID=Europe/Paris;VALUE=DATE:20171016
DTSTAMP:20171127T194602Z
URL:https://montagnerando-fonsegrives.com/events/dimanche-15-octobre-rando
 nnee-pedestre-puymorens-pas-de-la-case-estany-de-font-negre-pic-negre-denv
 alira/
SUMMARY:Dimanche 15 Octobre = Randonnée pédestre – Puymorens – Pas de
  la Case – Estany de Font Nègre – Pic Nègre d’Envalira
DESCRIPTION:Puymorens – Pas de la Case – Estany de Font Negra – Pic N
 ègre d’Envalira Cartes IGN : 2148 OT 2047 ET\n Présentation de la ran
 donnée :  Point de départ : Départ du parking du Col de Puymorens. Arr
 ivée parking du Pas de la Case. Se trouve à 150 kms de Toulouse\, 2H30 d
 e route. Coordonnées GPS : LAT/LNG  42\,783160 /1\,386290 Les différent
 s parcours :\n• Marcheurs 2 : Du Puymorens au Pas de la Case 8 kms\, dé
 nivelé : 400 m\, Durée : 3h 00 \n• Marcheurs 1 : Du Puymorens\, attein
 dre l’étang\, revenir au Pas de la Case 11\,2 kms\, dénivelé : 530 m\
 , Durée : 4h30\n• Randonneurs : Puymorens\, atteindre l’étang\, Roc 
 des ombres puis Pas de la Case 16 kms\, dénivelé : 1080 m\, Durée : 7h 
 00\nTrois itinéraires sont proposés : • Les baladeurs : du parking du 
 Col de Puymorens\, le groupe se rendra au Pas de la Case où il retrouvera
  le bus pour le retour. • Les Marcheurs suivront le même parcours que l
 es baladeurs jusqu’au Pas de la Case puis feront un aller-retour jusqu
 ’à l’Estany de Font Negra.  • Les randonneurs passeront l’Estany
  de Font Negra pour rejoindre le Pic Nègre d’Envalira (2825 m). Arriver
  à cette cote\, ils reviendront vers le Pas de la Case par le même chemi
 n. Cette randonnée offre un itinéraire de Haute randonnée Pyrénéenne\
 , avec une traversée dégagée. L’ascension se fait sans réelle diffic
 ulté avec un panorama remarquable. Enfin pour les amatrices et amateurs\,
  le Pas de la Case offre de bonnes opportunités à la carte bancaire….\
 nMétéo : 08 99 71 02 09.\nSecours Ariège :  112. PGHN : 05 61 64 22 58
 .\n[sgpx gpx="/wp-content/uploads/gpx/Pic de Negre randonneurs.gpx"]\n[sgp
 x gpx="/wp-content/uploads/gpx/Estany Font Negra.gpx"]\nPour télécharger
  le topo\, cliquez ici\nCONSEILS PRATIQUES\nMunissez-vous des équipement
 s individuels minimum suivants\, exigés pour participer en sécurité à 
 cette randonnée raquettes :\n- Chaussures de randonnée adaptées\, les 
 « baskets » ne sont pas autorisés\,\n- Vêtements et équipements de pr
 otection\, bonnet\, gants\, bâtons\, guêtres ..\n- Eau en quantité suff
 isante\, repas de déjeuner et vivres de course\,\nN’oubliez pas\, vos m
 édicaments personnels\, éventuellement votre téléphone mobile\, appare
 il photo… et surtout n’oubliez pas votre crème solaire\, vos lunettes
 ... et votre bonne humeur !\nEN CAS D'ANNULATION\nVeuillez contacter :\nPa
 r messagerie aux adresses suivantes:\n- Bernard PORCHERON : porcheron.bern
 ard@wanadoo.fr - Jacques VIGUIÉ : viguiejacques@orange.fr\nPar téléphon
 e auprès de :\n- Bernard PORCHERON : 05.61.80.13.22 ou 06.81.59.25.69\n- 
 Jacques VIGUIÉ : 06.70.72.94.76
CATEGORIES:Rando
END:VEVENT
BEGIN:VTIMEZONE
TZID:Europe/Paris
X-LIC-LOCATION:Europe/Paris
BEGIN:DAYLIGHT
DTSTART:20170326T030000
TZOFFSETFROM:+0100
TZOFFSETTO:+0200
TZNAME:CEST
END:DAYLIGHT
END:VTIMEZONE
END:VCALENDAR