BEGIN:VCALENDAR
VERSION:2.0
PRODID:-//wp-events-plugin.com//7.2.2.1//EN
TZID:Europe/Paris
X-WR-TIMEZONE:Europe/Paris
BEGIN:VEVENT
UID:162@montagnerando-fonsegrives.com
DTSTART;TZID=Europe/Paris;VALUE=DATE:20181216
DTEND;TZID=Europe/Paris;VALUE=DATE:20181217
DTSTAMP:20181212T173358Z
URL:https://montagnerando-fonsegrives.com/events/dimanche-16-decembre-2018
 -randonnee-pedestre-sur-les-pas-de-dartagnan/
SUMMARY:Dimanche 16 Décembre 2018 = Randonnée Pédestre [« Sur les Pas d
 e d’Artagnan »]
DESCRIPTION:Sur les pas de d’Artagnan à Lupiac Carte IGN : 1742 E\nPour 
 télécharger le topo\, cliquez ici\n[sgpx gpx="/wp-content/uploads/gpx/L
 upiac-d'Artagnan.gpx"]\nPrésentation de la randonnée : Point de départ 
 : Parking à Loupiac Se trouve à 130 kms de Toulouse\, 2H00 de route : Au
 ch\, Vic-Fezensac\, Lupiac\nCoordonnées GPS : 43.6821 N/0.183182 E\nLe Pa
 rcours : • Boucle commune Randonneurs ½ : itinéraire situé au nord de
  Lupiac. Distance 18 kms\, dénivelé : 286 m\, Temps : 5h 30.\nEntre les 
 vallées de la Douze et de l’Auzoue\, le village de Lupiac\, perché sur
  une colline\, est traversé par le chemin de César\, ancienne voie romai
 ne appelée aussi le Ténarèze. Village fortifié\, Lupiac a appartenu ju
 squ’en 1792 à la famille de Batz\, connue par le plus célèbre des Gas
 cons : d’Artagnan (1611-1673). Cette randonnée d’une distance de 18 k
 ms traverse un relief en « montagne russe »\, caractéristique des paysa
 ges gersois. Lupiac a gardé la forme ovale de son ancien castelnau\, avec
  un chemin de ronde qui rappelle les anciennes fortifications. On y remarq
 ue des maisons à colombages autour de la place centrale ainsi que des gal
 eries couvertes. Classée commune touristique\, Lupiac accueille plus de 1
 0 000 visiteurs chaque année. Sur la place d'Artagnan\, se dresse l'uniqu
 e statue équestre en bronze du célèbre mousquetaire\, inaugurée le 9 a
 oût 2015. Cette œuvre est le point de départ ou d'arrivée de la Route 
 Européenne d'Artagnan2. Elle relie Lupiac à Maastricht (Pays-Bas)\, resp
 ectivement lieux de naissance et de mort de d'Artagnan. Météo : 08 99 71
  02 32. Secours : 112. Mairie : 05 62 09 26 13\nCONSEILS PRATIQUES\n Munis
 sez-vous des équipements individuels minimum suivants\, exigés pour part
 iciper en sécurité à cette randonnée  :\n– Chaussures de randonnée
  adaptées\, les « baskets » ne sont pas autorisés\,\n– Vêtements et
  équipements de protection\, bonnet\, gants\, bâtons\, guêtres ..\n– 
 Eau en quantité suffisante\, repas de déjeuner et vivres de course\,\nN
 ’oubliez pas\, vos médicaments personnels\, éventuellement votre tél
 éphone mobile\, appareil photo… et surtout n’oubliez pas votre crème
  solaire\, vos lunettes… et votre bonne humeur !\nEN CAS D’ANNULATION\
 nVeuillez contacter :\nPar messagerie aux adresses suivantes:\n– Bernard
  PORCHERON : porcheron.bernard@wanadoo.fr – Jacques VIGUIÉ : viguiejacq
 ues@orange.fr\nPar téléphone auprès de :\n– Bernard PORCHERON : 05.61
 .80.13.22 ou 06.81.59.25.69\n– Jacques VIGUIÉ : 06.70.72.94.76
CATEGORIES:Rando
END:VEVENT
BEGIN:VTIMEZONE
TZID:Europe/Paris
X-LIC-LOCATION:Europe/Paris
BEGIN:STANDARD
DTSTART:20181028T020000
TZOFFSETFROM:+0200
TZOFFSETTO:+0100
TZNAME:CET
END:STANDARD
END:VTIMEZONE
END:VCALENDAR