BEGIN:VCALENDAR
VERSION:2.0
PRODID:-//wp-events-plugin.com//7.2.2.1//EN
TZID:Europe/Paris
X-WR-TIMEZONE:Europe/Paris
BEGIN:VEVENT
UID:220@montagnerando-fonsegrives.com
DTSTART;TZID=Europe/Paris;VALUE=DATE:20220116
DTEND;TZID=Europe/Paris;VALUE=DATE:20220117
DTSTAMP:20230605T211137Z
URL:https://montagnerando-fonsegrives.com/events/dimanche-16-janvier-rando
 nnee-en-raquettes/
SUMMARY:Dimanche 16 Janvier - Randonnée en raquettes
DESCRIPTION:Pour reprendre la saison après les fêtes\, nous vous proposon
 s une randonnée en raquettes le Dimanche 16 janvier 2022.\nLes participan
 ts sont conviés à se présenter à 7h15\, complexe Patrick Pépi à Quin
 t Fonsegrives\, pour un départ du bus à 7h30 (horaire d'hiver)\nLe club 
 mets à disposition un service de location de raquettes pour 2€ : les ra
 quettes sont à retirer avant le départ du bus au local technique (à l'a
 rrière du Complexe Patrice Pépi).\nLa destination exacte dépend de l’
 enneigement et des conditions de circulation\; à défaut de neige\, une r
 andonnée pédestre sera prévue. A titre indicatif\, ce pourrait être: C
 ap des Salières depuis St Paul d’Oueil\, Le Pech depuis le Col du Porte
 t-d’Aspet\, Pic de Fourcat depuis le Col de Marmare\, le Tarbezou depuis
  le Col de Pailhères\, Plateau de Beille\, Col du Chioula.\nLa destinatio
 n retenue sera communiquée sur la page d'accueil du site le Jeudi 13 janv
 ier.\nOuverture des Inscriptions le Samedi 8 Janvier. 
ATTACH;FMTTYPE=image/jpeg:https://montagnerando-fonsegrives.com/wp-content
 /uploads/2016/04/Dimanche-21-fevrier-2016-Col-du-Chioula-prise-de-vue-Domi
 nique-Sibottier1.jpg
CATEGORIES:Rando
END:VEVENT
BEGIN:VTIMEZONE
TZID:Europe/Paris
X-LIC-LOCATION:Europe/Paris
BEGIN:STANDARD
DTSTART:20211031T020000
TZOFFSETFROM:+0200
TZOFFSETTO:+0100
TZNAME:CET
END:STANDARD
END:VTIMEZONE
END:VCALENDAR