BEGIN:VCALENDAR
VERSION:2.0
PRODID:-//wp-events-plugin.com//7.2.2.1//EN
TZID:Europe/Paris
X-WR-TIMEZONE:Europe/Paris
BEGIN:VEVENT
UID:204@montagnerando-fonsegrives.com
DTSTART;TZID=Europe/Paris;VALUE=DATE:20210516
DTEND;TZID=Europe/Paris;VALUE=DATE:20210517
DTSTAMP:20210506T173840Z
URL:https://montagnerando-fonsegrives.com/events/dimanche-16-mai-serre-de-
 montredon-et-roc-de-laigle/
SUMMARY:Dimanche 16 Mai : Serre de Montredon et Roc de l'Aigle
DESCRIPTION:Serre de Montredon et Roc de l'Aigle\nCarte IGN 2345 ET\n\nTél
 écharger le topo - les traces GPX des Marcheurs  et des Randonneurs \n\
 n\n\n\n\n\n\n\n\n\n\n\nPrésentation de la randonnée\n\n\n\n\n\nPoint de 
 départ :\n\n\n\n\nParking à TRASSANEL (Aude) : Autoroute sortie Carcass
 onne Ouest\nSe garer dans le village : parking sur la gauche en entrant da
 ns le village.\nAutoroute A61\, Sortie 23 Carcassonne Ouest \, puis contin
 uer en direction de Trassanel\nDistance : 115 kms – 1h45.\n\n\n\nCoordon
 nées GPS : 43.34616 N/ 2.43644 E Alt. : 402m.\n\n\nTRAJET EN COVOITURAGE\
 n\n\n\n\n\n\n\n\n\n\n\n\n\n\n\n\nLe Parcours :\n\n 	Marcheurs : Boucle par
  Serre de Montredon et Roc de l'Aigle\nDistance : 14\,5 kms\, dénivelé
  : 504 m\, Temps : 4h 05\n 	Randonneurs : Boucle par Serre de Montredon et
  Roc de l'Aigle\nDistance 16\,8 kms\, dénivelé : 560 m\, Temps : 5h 45
 \n\n\n\n\n\n\n\n\n\n\n\n\n\n\n\n\n\n\n\n\n\n\n\n\n\n\n\n\n\n\n\n\n\n\n\n\n
 \n\n\n\n\n\n\n\n\n\n\n\n\n\nD’apparence modeste\, le massif calcaire de 
 Trassanel est un bonheur pour le randonneur.\nLa couleur bleue du ciel sur
  le calcaire blanc\, la flore de printemps\, les nombreuses grottes... mai
 s un peu de prudence\, la spéléologie ne s’improvise pas ! Ici\, les
  Résistants et les hommes du Maquis Armagnac se sont battus jusqu’au b
 out\, au fond du vallon dominé par la petite grotte où ils trouvèren
 t refuge. Leur chef\, Antoine Armagnac\, mortellement blessé\, est alle
 ́ se réfugier dans la cabane en pierre sèche à quelques centaines d
 e mètres de la grotte qui porte désormais son nom.\n\nPour Ceux qui po
 usseront jusqu’au roc de l’Aigle\, c’est l’occasion de jeter un co
 up d’œil et de surprendre les rapaces portés par la chaleur des coura
 nts. Les couples sont protégés et surveillés\, alors observez en sil
 ence\, sans les déranger\, la beauté de cette nature sauvage.\n\n\n\n\
 n\n\n\n\n\n\nCompte-tenu de passages rocailleux\, les chaussures de montag
 ne sont obligatoires.\n\n\n\n\n\n\n\n\n\n\n\n\n\n\nItinéraire assez bien
  balisé : balisage jaune et rouge sur les crêtes\, Jaune sur le reste 
 du parcours. Au cours de l’itinéraire\, les Randonneurs rencontreront 
 une montée assez raide entre le Col de Girabal et le Saint Barthélemy 
 et un passage où il faut poser les mains.\n\n\n\n\n\n\n\n\n\n\n\n\n\n\n\
 n\n\n\n\n\n\n\n\nMétéo : 08 99 71 02 11. Secours : 112\nMerci de confirm
 er votre inscription avant Vendredi 14 Mai 14h00\n
ATTACH;FMTTYPE=image/jpeg:https://montagnerando-fonsegrives.com/wp-content
 /uploads/2021/04/RocdelAigle.jpeg
CATEGORIES:Rando
END:VEVENT
BEGIN:VTIMEZONE
TZID:Europe/Paris
X-LIC-LOCATION:Europe/Paris
BEGIN:DAYLIGHT
DTSTART:20210328T030000
TZOFFSETFROM:+0100
TZOFFSETTO:+0200
TZNAME:CEST
END:DAYLIGHT
END:VTIMEZONE
END:VCALENDAR