BEGIN:VCALENDAR
VERSION:2.0
PRODID:-//wp-events-plugin.com//7.2.2.1//EN
TZID:Europe/Paris
X-WR-TIMEZONE:Europe/Paris
BEGIN:VEVENT
UID:74@montagnerando-fonsegrives.com
DTSTART;TZID=Europe/Paris;VALUE=DATE:20161016
DTEND;TZID=Europe/Paris;VALUE=DATE:20161017
DTSTAMP:20171204T102832Z
URL:https://montagnerando-fonsegrives.com/events/dimanche-16-octobre-refug
 e-de-lisard-et-etang-duls-depuis-frechendech/
SUMMARY:Dimanche 16 Octobre = Refuge de l’Isard et Étang d’Uls depuis 
 Frecherdech [Ariège] COVOITURAGE
DESCRIPTION:Etang d’Uls depuis Labach. Carte IGN : 1747 OT \nPrésentatio
 n de la randonnée : TRANSPORT PAR COVOITURAGE . \nPoint de départ : Park
 ing à Labach (saint Béat puis direction MELLES par D44h et poursuivre ju
 squ’à LABACH) Compter 2h00 de voiture pour rejoindre le point de dépar
 t (150 kms) Altitude de départ 970 m. GPS : Lat/long 42.864730/0.800260 U
 TM : 31N 320307 4748140\nLes différents parcours : Parcours Aller/Retour 
 commun pour les 2 groupes . \n. Boucle pour Marcheurs : Cabane d’Uls (18
 20m). Aller-Retour de 9 kms\, dénivelé : 850 m (circuit en rouge)\n. Bou
 cle pour Randonneurs : Etang d’Uls (1959m). Aller-Retour de 12\,5 kms\, 
 dénivelé : 1000 m (circuit rouge) \nMétéo : 08 99 71 02 31. Office de 
 tourisme : 05 61 79 45 98 (Saint-Béat). Secours Haute Garonne : 112 ou 05
  62 92 41. PGHM : 05 61 79 28 36\nA l'ouest de l'Ariège les montagnes du 
 Biros ne sont pas vraiment fréquentées par les amateurs de lacs\, et pou
 r cause : toute la région est pratiquement dépourvue de plan d'eau.\nIl 
 n'y a guère que l'étang d'Araing\, au pied du célèbre pic du Crabère\
 , pour offrir aux touristes une excursion lacustre digne de ce nom. Mais a
 vec son barrage de béton\, ses vieux baraquements rouillés\, et son refu
 ge à l'architecture douteuse\, on ne peut pas dire que le site soit parti
 culièrement attractif.\nIl ne faut pourtant pas se fier aux apparences ca
 r\, en réalité\, tout le secteur compris entre le Crabère et la Calabas
 se présente une richesse extraordinaire et offre des paysages qui sont pr
 obablement uniques dans les Pyrénées. Tout d'abord\, une réserve biolog
 ique préserve la somptueuse Sapinière de l'Isard\, superbe forêt primai
 re qui possède pins et sapins plusieurs fois centenaires.\nEnsuite (et c'
 est la particularité de cette région ariégeoise) l'étage subalpin n'es
 t pas très conventionnelle et grimpent étrangement jusqu'aux cimes. Ains
 i\, au lieu des pelouses qui précèdent habituellement le monde minéral 
 des crêtes\, on trouve là au contraire une espèce de lande à la végé
 tation rase composée de genêts\, de fougères\, de rhododendrons et de m
 yrtilles.\nQuelques bosquets de bouleaux et de sorbiers viennent agrément
 er le décor et des tourbières abritent de fragiles écosystèmes où l'o
 n peut par exemple observer la fameuse Droséra\, minuscule plante carnivo
 re rarissime et particulièrement protégée.\nC'est à l'automne qu'il fa
 ut aller rendre visite à l'étang d'Uls\, lorsque les couleurs flamboyant
 es viennent transformer ce petit coin du Biros en véritable taïga nordiq
 ue. La mutation se produit généralement fin septembre et le spectacle ga
 gne en intensité courant octobre\, à condition qu'une neige trop précoc
 e ne vienne pas cramer la végétation de façon prématurée.\nC'est la m
 ême période que choisissent les grands cerfs pour quitter les sous-bois 
 et réunir leur harem de biche. À l'aube ou au crépuscule\, le brame bat
  son plein et si vous êtes chanceux (et surtout discret)\, vous observere
 z facilement les ébats en lisière de forêt. Saturée en oxyde de fer\, 
 l'étang d'Uls semble quant à lui dépourvu de vie. Un bon pêcheur m'a p
 ourtant affirmé y avoir attrapé une énorme truite.\nLes directives d’
 animation des Groupes de niveau seront données au départ de la randonné
 e. Rendez-vous comme d’habitude à 6h.45 sur le parking du Complexe P.-P
 épi pour un départ effectif à 7 h.\nPour télécharger le topo\, clique
 z ici\n\nCONSIGNES\nChoisissez-bien votre Groupe de niveau\, en fonction d
 e la carte et du topo disponibles sur le site internet de la Section\, de 
 la météo prévue et de votre état de forme. Consultez et suivez les con
 seils et recommandations de notre site Internet pour vous y préparer. Mun
 issez-vous des équipements individuels minimum suivants\, exigés pour pa
 rticiper en sécurité à cette randonnée pédestre Chaussures de randonn
 ée adaptées\, les « baskets » ne sont pas autorisés\, Vêtements et 
 équipements de protection contre le froid\, le vent\, la pluie et le sole
 il\, Eau en quantité suffisante\, repas de déjeuner et vivres de course.
  Les papiers à emballer dans une pochette étanche : Papiers d’identit
 é\, Carte Vitale\, Carte Mutuelle. N’oubliez pas le cas échéant\, vos
  médicaments personnels\, bâtons\, lunettes…éventuellement votre tél
 éphone mobile\, appareil photo… et en tous cas\, votre bonne humeur !\n
 EN CAS D'ANNULATION Veuillez contacter : Par messagerie aux adresses suiva
 ntes: - Bernard PORCHERON : porcheron.bernard@wanadoo.fr - Jacques VIGUIÉ
  : viguiejacques@orange.fr\nPar téléphone auprès de : - Bernard PORCHER
 ON : 05.61.80.13.22 ou 06.81.59.25.69 - Jacques VIGUIÉ : 06.70.72.94.76
CATEGORIES:Rando
LOCATION:Refuge de l’Isard et Étang d’Uls depuis Frecherdech [Ariège]
  COVOITURAGE\, Refuge de l’Isard et Étang d’Uls\, Frecherdech\, Ariè
 ge\, France
GEO:42.868255;0.927789999999959
X-APPLE-STRUCTURED-LOCATION;VALUE=URI;X-ADDRESS=Refuge de l’Isard et Éta
 ng d’Uls\, Frecherdech\, Ariège\, France;X-APPLE-RADIUS=100;X-TITLE=Ref
 uge de l’Isard et Étang d’Uls depuis Frecherdech [Ariège] COVOITURAG
 E:geo:42.868255,0.927789999999959
END:VEVENT
BEGIN:VTIMEZONE
TZID:Europe/Paris
X-LIC-LOCATION:Europe/Paris
BEGIN:DAYLIGHT
DTSTART:20160327T030000
TZOFFSETFROM:+0100
TZOFFSETTO:+0200
TZNAME:CEST
END:DAYLIGHT
END:VTIMEZONE
END:VCALENDAR