BEGIN:VCALENDAR
VERSION:2.0
PRODID:-//wp-events-plugin.com//7.2.2.1//EN
TZID:Europe/Paris
X-WR-TIMEZONE:Europe/Paris
BEGIN:VEVENT
UID:136@montagnerando-fonsegrives.com
DTSTART;TZID=Europe/Paris;VALUE=DATE:20190217
DTEND;TZID=Europe/Paris;VALUE=DATE:20190218
DTSTAMP:20190218T172515Z
URL:https://montagnerando-fonsegrives.com/events/dimanche-17-fevrier-2019-
 randonnee-raquettes/
SUMMARY:Dimanche 17 février 2019 = Randonnée Raquettes - Cabane de Campul
 s et Cabane de Lee
DESCRIPTION:ATTENTION: départ du bus à 7:30\nCabane de Campuls et Cabane 
 de Lee - Carte IGN : 2048 OT\nPrésentation de la randonnée : Point de d
 épart : Depuis Toulouse\, direction Saint Girons\, Castillon direction co
 l de Core puis étang de Bethmale. Distance : 134 kms – 2h15. Coordonné
 es GPS : 42.51083 N/ 1.5012 E\nLe Parcours : • A/R Randonneurs 1 : depui
 s l’étang de Bethmale rejoindre la cabane de Campuls. Distance : 10 kms
 \, dénivelé : 450 m\, Temps : 4h 30. • A/R Randonneurs 2 : depuis l’
 étang de Bethmale rejoindre la cabane de Campuls puis celle de Lee. Dista
 nce 12\,8 kms\, dénivelé : 570 m\, Temps : 5h 00.\nPour télécharger le
  topo\, cliquez ici\n[sgpx gpx="/wp-content/uploads/gpx/Cabane de Lee.gpx
 "][sgpx gpx="/wp-content/uploads/gpx/cabane de Campuls.gpx"]\nUn parcours 
 sans difficulté à travers la magnifique forêt de la vallée de Bethmale
 . A réaliser idéalement avec une limite d’enneigement inférieure à 1
 000m pour traverser la forêt sur des pistes enneigées. La cabane de Camp
 uls nous accueille pour une pause repas au cœur du beau cirque éponyme.\
 nMétéo : 08 99 71 02 09. Secours : 112.\nCONSEILS PRATIQUES\n Munissez-v
 ous des équipements individuels minimum suivants\, exigés pour participe
 r en sécurité à cette randonnée :\n– Chaussures de randonnée adapt
 ées\, les « baskets » ne sont pas autorisés\,\n– Vêtements et équi
 pements de protection\, bonnet\, gants\, bâtons\, guêtres ..\n– Eau en
  quantité suffisante\, repas de déjeuner et vivres de course\,\nN’oubl
 iez pas\, vos médicaments personnels\, éventuellement votre téléphone 
 mobile\, appareil photo… et surtout n’oubliez pas votre crème solaire
 \, vos lunettes… et votre bonne humeur !\nEN CAS D’ANNULATION\nVeuille
 z contacter :\nPar messagerie aux adresses suivantes:\n– Bernard PORCHER
 ON : porcheron.bernard@wanadoo.fr – Jacques VIGUIÉ : viguiejacques@oran
 ge.fr\nPar téléphone auprès de :\n– Bernard PORCHERON : 05.61.80.13.2
 2 ou 06.81.59.25.69\n– Jacques VIGUIÉ : 06.70.72.94.76
CATEGORIES:Rando
END:VEVENT
BEGIN:VTIMEZONE
TZID:Europe/Paris
X-LIC-LOCATION:Europe/Paris
BEGIN:STANDARD
DTSTART:20181028T020000
TZOFFSETFROM:+0200
TZOFFSETTO:+0100
TZNAME:CET
END:STANDARD
END:VTIMEZONE
END:VCALENDAR