BEGIN:VCALENDAR
VERSION:2.0
PRODID:-//wp-events-plugin.com//7.2.2.1//EN
TZID:Europe/Paris
X-WR-TIMEZONE:Europe/Paris
BEGIN:VEVENT
UID:138@montagnerando-fonsegrives.com
DTSTART;TZID=Europe/Paris;VALUE=DATE:20190317
DTEND;TZID=Europe/Paris;VALUE=DATE:20190318
DTSTAMP:20190314T173710Z
URL:https://montagnerando-fonsegrives.com/events/dimanche-17-mars-2019-ran
 donnee-raquettes/
SUMMARY:Dimanche 17 mars 2019 = Randonnée Pédestre - Saint Martin-des-pui
 ts : SERRES de BLANES
DESCRIPTION:Saint Martin-des-puits - SERRES de BLANES \nAttention : Départ
  à 7h30\nPour télécharger le topo\, cliquez ici\nPrésentation de la ra
 ndonnée : Point de départ : Parking à Saint Martin des Puits (arrêt ju
 ste avant le pont) Se trouve à 155 kms de Toulouse : autoroute Carcassonn
 e Est\, Trèbes\, Lagrasse\, 2H15 de route. Coordonnées GPS : LAT/LNG 43
 ° 04107 N / 2° 5748 E Les différents parcours :\nBoucle Randonneurs : D
 istance : 15 kms\, dénivelé : 470 m\, Durée : 5h 15\nCette randonnée\,
  dans le département de l’Aude\, nous permet de marcher dans une végé
 tation méditerranéenne\, sur des sentiers larges et situées sur des cr
 êtes : beau panorama. La chapelle Saint Martin est en ruine mais un abri 
 existe si nécessaire. Météo : 08 99 71 02 11. Secours : 112.\n[sgpx gpx
 ="/wp-content/uploads/gpx/Serres de Blanes.gpx"]\nCONSEILS PRATIQUES\n Mun
 issez-vous des équipements individuels minimum suivants\, exigés pour pa
 rticiper en sécurité à cette randonnée :\n– Chaussures de randonnée
  adaptées\, les « baskets » ne sont pas autorisés\,\n– Vêtements et
  équipements de protection\, bonnet\, gants\, bâtons\, guêtres ..\n– 
 Eau en quantité suffisante\, repas de déjeuner et vivres de course\,\nN
 ’oubliez pas\, vos médicaments personnels\, éventuellement votre tél
 éphone mobile\, appareil photo… et surtout n’oubliez pas votre crème
  solaire\, vos lunettes… et votre bonne humeur !\nEN CAS D’ANNULATION\
 nVeuillez contacter :\nPar messagerie aux adresses suivantes:\n– Bernard
  PORCHERON : porcheron.bernard@wanadoo.fr – Jacques VIGUIÉ : viguiejacq
 ues@orange.fr - Sibottier Dominique :  dominiquesibottier@orange.fr\nPar 
 téléphone auprès de :\n– Bernard PORCHERON : 05.61.80.13.22 ou 06.81.
 59.25.69\n– Jacques VIGUIÉ : 06.70.72.94.76
CATEGORIES:Rando
END:VEVENT
BEGIN:VTIMEZONE
TZID:Europe/Paris
X-LIC-LOCATION:Europe/Paris
BEGIN:STANDARD
DTSTART:20181028T020000
TZOFFSETFROM:+0200
TZOFFSETTO:+0100
TZNAME:CET
END:STANDARD
END:VTIMEZONE
END:VCALENDAR