BEGIN:VCALENDAR
VERSION:2.0
PRODID:-//wp-events-plugin.com//7.2.2.1//EN
TZID:Europe/Paris
X-WR-TIMEZONE:Europe/Paris
BEGIN:VEVENT
UID:212@montagnerando-fonsegrives.com
DTSTART;TZID=Europe/Paris;VALUE=DATE:20211017
DTEND;TZID=Europe/Paris;VALUE=DATE:20211018
DTSTAMP:20211008T210720Z
URL:https://montagnerando-fonsegrives.com/events/dimanche-17-octobre-col-d
 e-lherbe-soulette-pic-de-la-calabasse/
SUMMARY:Dimanche 17 Octobre : Col de l'Herbe Soulette - Pic de la Calabasse
DESCRIPTION:Col de l'Herbe Soulette (1587m) - Pic de la Calabasse (2210 m)\
 nCarte IGN 1947 OT\n\nTélécharger le topo - les traces GPX des Marcheurs
  (Col de l'Herbe Soulette)  et des Randonneurs (Pic de la Calabasse)\n\n\
 n\n\n\n\n\n\n\n\n\n\nPrésentation de la randonnée\n\n\n\n\n\nPoint de d
 épart :\nParking de l’Osque de Couret : depuis ST GIRONS prendre la dir
 ection du Col du Portet d’Aspet par la D168.\nA Saint Lary\, suivre à 
 gauche le D57 puis la route forestière de Joubac jusqu’au parking.\n\n
 Distance : 127 kms – 1h55\nCoordonnées GPS : 42.89124 N / 0.85652 E Alt
 . : 1100m.\n\n\n-------------------   DEPLACEMENT EN CO-VOITURAGE ------
 -------------------\nRENDEZ-VOUS A 07H AU PARKING DE L'ESPACE PATRICK PEPI
  POUR L'ORGANISATION DU CO-VOITURAGE\n-------------------   DEPLACEMENT 
 EN CO-VOITURAGE -------------------------\n\n&nbsp\;\n\n\n\n\n\n\n\n\n\n\n
 \n\n\n\n\n\nLe Parcours :\n\n 	Marcheurs : boucle + A/R jusqu’à la cab
 ane via col de l’herbe Soulette (1587 m).\nDistance 11\,9 kms\, dénive
 lé : 550 m\, Temps : 5h 50.\n 	Randonneurs : Boucle menant au Pic de Cal
 abasse + Tuc St Jean.\nDistance 12\,5 kms\, dénivelé : 1020 m\, Temps 
 : 6h 30.\n\n\n\n\n\n\n\n\n\n\n\n\n\n\n\n\n\n\n\n\n\n\n\n\n\n\n\n\n\n\n\n\n
 \n\n\n\n\n\n\n\n\n\n\n\n\n\n\nPoint culminant de la vallée de Saint-Lary
 \, le pic de la Calabasse nous offre une vue magnifique tant sur cette val
 lée très boisée que sur les hauts sommets frontaliers des Pyréné
 es ariégeoises.\nPour y accéder\, on emprunte un ludique et sportif se
 ntier confidentiel\, remontant la belle forêt Joubac. Les moins aventuri
 ers pourront cependant conserver la piste forestière des Trémailles ju
 squ'au col de l'Herbe Soulette pour une longue balade au coeur d'une belle
  forêt. En ce point\, les Marcheurs partiront vers la cabane de l’Aron
 .\n\n\n\n\n\n\n\n\n\n\n\n\n\n\n\nMerci de confirmer votre inscription avan
 t Mercredi 13 Octobre 19h00\n\n\n\n\nMétéo : 08 99 71 02 09. Secours : 1
 12\n\n\n
ATTACH;FMTTYPE=image/jpeg:https://montagnerando-fonsegrives.com/wp-content
 /uploads/2021/10/Pic-de-la-Calabasse.png
CATEGORIES:Rando
END:VEVENT
BEGIN:VTIMEZONE
TZID:Europe/Paris
X-LIC-LOCATION:Europe/Paris
BEGIN:DAYLIGHT
DTSTART:20210328T030000
TZOFFSETFROM:+0100
TZOFFSETTO:+0200
TZNAME:CEST
END:DAYLIGHT
END:VTIMEZONE
END:VCALENDAR