BEGIN:VCALENDAR
VERSION:2.0
PRODID:-//wp-events-plugin.com//7.2.2.1//EN
TZID:Europe/Paris
X-WR-TIMEZONE:Europe/Paris
BEGIN:VEVENT
UID:101@montagnerando-fonsegrives.com
DTSTART;TZID=Europe/Paris;VALUE=DATE:20170917
DTEND;TZID=Europe/Paris;VALUE=DATE:20170918
DTSTAMP:20170329T083655Z
URL:https://montagnerando-fonsegrives.com/events/dimanche-17-septembre-ran
 donnee-pedestre-pics-destibat-et-de-la-journalade/
SUMMARY:Dimanche 17 septembre = Randonnée pédestre – Pics d’Estibat e
 t de la Journalade
DESCRIPTION:Des informations plus précises vous seront données ultérieur
 ement.
CATEGORIES:Rando
END:VEVENT
BEGIN:VTIMEZONE
TZID:Europe/Paris
X-LIC-LOCATION:Europe/Paris
BEGIN:DAYLIGHT
DTSTART:20170326T030000
TZOFFSETFROM:+0100
TZOFFSETTO:+0200
TZNAME:CEST
END:DAYLIGHT
END:VTIMEZONE
END:VCALENDAR