BEGIN:VCALENDAR
VERSION:2.0
PRODID:-//wp-events-plugin.com//7.2.2.1//EN
TZID:Europe/Paris
X-WR-TIMEZONE:Europe/Paris
BEGIN:VEVENT
UID:160@montagnerando-fonsegrives.com
DTSTART;TZID=Europe/Paris;VALUE=DATE:20181118
DTEND;TZID=Europe/Paris;VALUE=DATE:20181119
DTSTAMP:20181112T164951Z
URL:https://montagnerando-fonsegrives.com/events/dimanche-18-novembre-2018
 -randonnee-pedestre-col-de-la-serre-de-la-cot-et-tuc-de-peyre-mensongere/
SUMMARY:Dimanche 18 Novembre 2018 = Randonnée Pédestre La Soulane du VICD
 ESSOS
DESCRIPTION:La Soulane du VICDESSOS - Carte IGN : 3148 OT &amp\; 3147 ET\nP
 our télécharger le topo\, cliquez ici\n[sgpx gpx="/wp-content/uploads/g
 px/Vicdessos gpxRand1.gpx"][sgpx gpx="/wp-content/uploads/gpx/La soulane d
 u VicdessosgpxRand2.gpx"]Présentation de la randonnée : Point de départ
  : Parking à l’entrée du village à droite\, devant le supermarché. S
 e trouve à 117 kms de Toulouse\, 2H10 de route. Coordonnées GPS : 42\,76
 906 N \; 1\,50071 E Altitude : 704 m.\nLes différents parcours : • Bouc
 le pour Randonneurs 1 : Vicdessos - Sentenac - Illier – Arconac - Vicdes
 sos 12\,3 kms\, dénivelé : 600 m\, Temps : 4h15 • Boucle pour Randonne
 urs 2 : Vicdessos – Sentenac – Illier – Arconac – Sem - Vicdessos 
 15\,3 kms\, dénivelé : 940 m\, Temps : 6h00.\nDe nombreuses bâtisses mo
 ntagnardes\, un chemin pavé à flanc de pente tout à fait remarquable et
  une vue portant jusqu’au Montcalm agrémentent cette balade sur la « s
 oulane » ou versant ensoleillé de la vallée du Vicdessos. L’itinérai
 re (un PR balisé en jaune) grimpe dans la forêt sur le versant nord de l
 a vallée du Vicdessos\, où l’exploitation minière a laissé de nombre
 ux vestiges. IL faut au passage monter jusqu’au dolmen perché sur la co
 lline appelé « Palet de Sanson ». Puis on redescend sur Sem et Arconac 
 où on retrouve l’itinéraire des marcheurs. Les points forts : - parcou
 rs balisé et paysages variés\, vue dégagée sur la vallée - villages p
 ittoresques : Arconac (lavoir)\, Ilier\, Orus (décor maisons)\, Sentenac 
 (église romane)\, Vicdessos (place et arbres)\nCONSEILS PRATIQUES\n Munis
 sez-vous des équipements individuels minimum suivants\, exigés pour part
 iciper en sécurité à cette randonnée :\n– Chaussures de randonnée a
 daptées\, les « baskets » ne sont pas autorisés\,\n– Vêtements et 
 équipements de protection\, bonnet\, gants\, bâtons\, guêtres ..\n– E
 au en quantité suffisante\, repas de déjeuner et vivres de course\,\nN
 ’oubliez pas\, vos médicaments personnels\, éventuellement votre tél
 éphone mobile\, appareil photo… et surtout n’oubliez pas votre crème
  solaire\, vos lunettes… et votre bonne humeur !\nEN CAS D’ANNULATION\
 nVeuillez contacter :\nPar messagerie aux adresses suivantes:\n– Bernard
  PORCHERON : porcheron.bernard@wanadoo.fr – Jacques VIGUIÉ : viguiejacq
 ues@orange.fr\nPar téléphone auprès de :\n– Bernard PORCHERON : 05.61
 .80.13.22 ou 06.81.59.25.69\n– Jacques VIGUIÉ : 06.70.72.94.76
CATEGORIES:Rando
END:VEVENT
BEGIN:VTIMEZONE
TZID:Europe/Paris
X-LIC-LOCATION:Europe/Paris
BEGIN:STANDARD
DTSTART:20181028T020000
TZOFFSETFROM:+0200
TZOFFSETTO:+0100
TZNAME:CET
END:STANDARD
END:VTIMEZONE
END:VCALENDAR