BEGIN:VCALENDAR
VERSION:2.0
PRODID:-//wp-events-plugin.com//7.2.2.1//EN
TZID:Europe/Paris
X-WR-TIMEZONE:Europe/Paris
BEGIN:VEVENT
UID:72@montagnerando-fonsegrives.com
DTSTART;TZID=Europe/Paris;VALUE=DATE:20160918
DTEND;TZID=Europe/Paris;VALUE=DATE:20160919
DTSTAMP:20171204T172557Z
URL:https://montagnerando-fonsegrives.com/events/dimanche-18-septembre-tou
 r-du-nerassol-depuis-lhospitalet/
SUMMARY:Dimanche 18 Septembre = L’Étang du Siscar et le Tour du Nérasso
 l depuis L’Hospitalet [Ariège]
DESCRIPTION:Dimanche 18 Septembre = L’Étang du Siscar et le Tour du Nér
 assol depuis L’Hospitalet [Ariège]\nEtangs de Siscar (2 187m) et Pédou
 rrès (2 165m). Carte IGN : 2249 OT\nPrésentation de la randonnée : Poin
 t de départ : L’Hospitalet-près-l’Andorre : Parking possible à la g
 are de la localité. Compter deux heures de voiture pour rejoindre le poin
 t de départ (146 kms) Coordonnées GPS : 42 589561N/1 800282 E\nLes diff
 érents parcours : . Boucle pour Marcheurs : Montée à l’étang de Sisc
 ar. Aller-Retour de 13 kms\, dénivelé : 800 m (circuit en bleu) Temps : 
 5h00\n. Boucle pour Randonneurs : . Etangs de Siscar et de Pédourrès 15
  kms\, dénivelé : 1050 m (circuit bleu + rouge). Temps : 6h15\nAu-dessus
  de l’Hospitalet-près-l’Andorre\, deux vallées d’une rare beauté 
 s’élancent vers les étangs du Siscar et de Pédourrès et encerclent l
 a masse imposante du Pic de Nérassol. Cirque très fermé de forme allong
 ée\, il contient en son sein l'étang du Sisca \; la crête en "dents de 
 scie" est formée du Roc Mélé (2 811 m)\, du Pic de la Cabanette (2 818 
 m)\, du Cylindre d'Escobes (2 660 m)\, et du Pic d'Escobes (2 779 m). Des 
 bruyères du versant sud aux ombellifères géantes du défilé du Saut du
  Taureau\, toute la richesse de la flore ariègeoise forme un herbier viva
 nt qui s’anime à chaque saison. Le parcours traverse des passages rocai
 lleux nécessitant de bonnes chaussures. Météo : 08 99 71 02 09. Office 
 de tourisme : 05 61 05 20 04. Secours Ariège : 112. PGHM : 05 61 64 22 58
  (Salvignac les ormaux)\nPour télécharger le topo\, cliquez ici\nLes dir
 ectives d’animation des Groupes de niveau seront données au départ de 
 la randonnée.\nRendez-vous comme d’habitude à 6h.45 sur le parking du 
 Complexe P.-Pépi pour un départ effectif à 7 h.\nCONSIGNES\nChoisissez-
 bien votre Groupe de niveau\, en fonction de la carte et du topo disponibl
 es sur le site internet de la Section\, de la météo prévue et de votre 
 état de forme.\nConsultez et suivez les conseils et recommandations de no
 tre site Internet pour vous y préparer.\nMunissez-vous des équipements i
 ndividuels minimum suivants\, exigés pour participer en sécurité à cet
 te randonnée pédestre\nChaussures de randonnée adaptées\, les « baske
 ts » ne sont pas autorisés\,\nVêtements et équipements de protection c
 ontre le froid\, le vent\, la pluie et le soleil\,\nEau en quantité suffi
 sante\, repas de déjeuner et vivres de course\,\nN’oubliez pas le cas 
 échéant\, vos médicaments personnels\, bâtons\, lunettes…éventuelle
 ment votre téléphone mobile\, appareil photo… et en tous cas\, votre b
 onne humeur !\nEN CAS D'ANNULATION\nVeuillez contacter : Par messagerie au
 x adresses suivantes:\n- Bernard PORCHERON : porcheron.bernard@wanadoo.fr 
 - Jacques VIGUIÉ : viguiejacques@orange.fr\nPar téléphone auprès de : 
 - Bernard PORCHERON : 05.61.80.13.22 ou 06.81.59.25.69 - Jacques VIGUIÉ :
  06.70.72.94.76
CATEGORIES:Rando
LOCATION:L’Étang du Siscar et le Tour du Nérassol depuis L’Hospitalet
 \,  L’Hospitalet\,  L’Hospitalet\, arriege\, France
GEO:44.8060239;1.6266617999999653
X-APPLE-STRUCTURED-LOCATION;VALUE=URI;X-ADDRESS= L’Hospitalet\,  L’Hosp
 italet\, arriege\, France;X-APPLE-RADIUS=100;X-TITLE=L’Étang du Siscar 
 et le Tour du Nérassol depuis L’Hospitalet:geo:44.8060239,1.62666179999
 99653
END:VEVENT
BEGIN:VTIMEZONE
TZID:Europe/Paris
X-LIC-LOCATION:Europe/Paris
BEGIN:DAYLIGHT
DTSTART:20160327T030000
TZOFFSETFROM:+0100
TZOFFSETTO:+0200
TZNAME:CEST
END:DAYLIGHT
END:VTIMEZONE
END:VCALENDAR