BEGIN:VCALENDAR
VERSION:2.0
PRODID:-//wp-events-plugin.com//7.2.2.1//EN
TZID:Europe/Paris
X-WR-TIMEZONE:Europe/Paris
BEGIN:VEVENT
UID:144@montagnerando-fonsegrives.com
DTSTART;TZID=Europe/Paris;VALUE=DATE:20190519
DTEND;TZID=Europe/Paris;VALUE=DATE:20190520
DTSTAMP:20190513T074917Z
URL:https://montagnerando-fonsegrives.com/events/dimanche-19-mai-2019-rand
 onnee-pedestre/
SUMMARY:Dimanche 19 mai 2019 = Randonnée Pédestre - Tour du mail des Mor
 ères
DESCRIPTION:Tour du mail des Morères Carte IGN : 1947 OT\nPour télécharg
 er le topo\, cliquez ci [sgpx gpx="/wp-content/uploads/gpx/Tour du Mail de
 s Morères Rand.gpx"][sgpx gpx="/wp-content/uploads/gpx/Tour du Mail des M
 orères Marcheur.gpx"]\nPrésentation de la randonnée : Point de départ 
 : Parking Place de l’école à Sentein. Se trouve à 130 kms de Toulouse
  : autoroute A64\, 2H 00 de route. Coordonnées GPS : LAT/LNG 42\,87443 N 
 / 0\,95596 E\nLes différents parcours : • Boucle Marcheurs : Sentein 
 – Col de la Croix – Antras – Sentein. Distance : 10\,3 kms\, dénive
 lé : 650 m\, Durée : 4h 30. • Boucle Randonneurs 2 : Sentein - Col des
  Morères – Antras – Sentein. Distance : 14\,2 kms\, dénivelé : 970 
 m\, Durée : 6h 00. Option A/R Pic de Sérau : + 1 km\, + 120 m.\nAu-dessu
 s de la verdoyante vallée de Sentein et face aux impressionnants sommets 
 du Biros\, cette boucle sans difficulté allie le plaisir de la randonnée
  à celui de la découverte du patrimoine rural. En chemin vous traversere
 z le village typique d’Antras\, son église. Prendre le temps de parcour
 ir également les ruelles du village étape : Sentein. Les pentes herbeuse
 s des montagnes du Couserans ont permis le développement de l’élevage 
 et de ses produits dérivés\, dont le célèbre et succulent Bethmale. Qu
 ’ils soient de vache ou de brebis\, les fromages étaient fabriqués l
 ’été en montagne car les troupeaux restaient en altitude. Le berger (o
 u le vacher) trayait les bêtes\, chauffait le lait\, le faisait cailler\,
  l’égouttait\, puis le mettait à sécher dans une cabane spéciale\, l
 e mazuc. Ce long travail fournissait une part importante de son revenu : l
 e fromage était une denrée précieuse\, puisque les archives du 15ème s
 iècle attestent que des droits d’usage de la Montagne de la Morère se 
 monnayaient en fromages.\nMétéo : 08 99 71 02 31. Secours : 112.\nCONSEI
 LS PRATIQUES\n Munissez-vous des équipements individuels minimum suivants
 \, exigés pour participer en sécurité à cette randonnée :\n– Chauss
 ures de randonnée adaptées\, les « baskets » ne sont pas autorisés\,\
 n– Vêtements et équipements de protection\, bonnet\, gants\, bâtons\,
  guêtres ..\n– Eau en quantité suffisante\, repas de déjeuner et vivr
 es de course\,\nN’oubliez pas\, vos médicaments personnels\, éventuell
 ement votre téléphone mobile\, appareil photo… et surtout n’oubliez 
 pas votre crème solaire\, vos lunettes… et votre bonne humeur !\nEN CAS
  D’ANNULATION\nVeuillez contacter :\nPar messagerie aux adresses suivant
 es:\n– Bernard PORCHERON : porcheron.bernard@wanadoo.fr – Jacques VIGU
 IÉ : viguiejacques@orange.fr - Sibottier Dominique : dominiquesibottier@o
 range.fr\nPar téléphone auprès de :\n– Bernard PORCHERON : 05.61.80.1
 3.22 ou 06.81.59.25.69\n– Jacques VIGUIÉ : 06.70.72.94.76
CATEGORIES:Rando
END:VEVENT
BEGIN:VTIMEZONE
TZID:Europe/Paris
X-LIC-LOCATION:Europe/Paris
BEGIN:DAYLIGHT
DTSTART:20190331T030000
TZOFFSETFROM:+0100
TZOFFSETTO:+0200
TZNAME:CEST
END:DAYLIGHT
END:VTIMEZONE
END:VCALENDAR