BEGIN:VCALENDAR
VERSION:2.0
PRODID:-//wp-events-plugin.com//7.2.2.1//EN
TZID:Europe/Paris
X-WR-TIMEZONE:Europe/Paris
BEGIN:VEVENT
UID:161@montagnerando-fonsegrives.com
DTSTART;TZID=Europe/Paris;VALUE=DATE:20181202
DTEND;TZID=Europe/Paris;VALUE=DATE:20181203
DTSTAMP:20181124T123132Z
URL:https://montagnerando-fonsegrives.com/events/dimanche-2-decembre-2018-
 randonnee-pedestre-sougraigne-rennes-les-bains/
SUMMARY:Dimanche 2 Décembre 2018 = Randonnée Pédestre [Sougraigne- Renne
 s les Bains]
DESCRIPTION:Sougraigne – Rennes les bains Carte IGN : 2347 OT\nPrésentat
 ion de la randonnée : Point de départ : Parking juste avant l’entrée 
 dans le village sur la droite Se trouve à 130 kms de Toulouse\, 2H10 de r
 oute : Coordonnées GPS : 42.90131 N/ 2.35258 E\nLe Parcours : • Boucle 
 Randonneurs 1 : Lac de Barrenc\, Rennes-les-bains\, Sougraigne Distance 15
 \,5 kms\, dénivelé : 500 m\, Temps : 5h 20.\n• Boucle Randonneurs 2 : 
 Lac de Barrenc\, Col d’al Bouich\, Rennes-les-bains\, Sougraigne Distanc
 e 16\,2 kms\, dénivelé : 530 m\, Temps : 5h 40.\nDes paysages variés à
  découvrir en parcourant deux boucles\, des villages\, un cheminement fin
 al le long de la Salz (goûtez donc l’eau\, vous saurez pourquoi on l’
 appelle ainsi !)\nCette randonnée permet de découvrir le Massif des Corb
 ières dans sa partie la plus occidentale. Depuis Sougraigne\, vous vous d
 irigerez\, parmi une forêt dense\, vers le Lac de barrenc\, dans la monta
 gne des Cornes (683 m) : méfiez-vous un berger fût englouti par ce lac a
 u 18ème siècle (barrenc en occitan signifie gouffre). Puis poursuivez vo
 tre chemin vers Montferrand (village un peu en dehors du parcours mais pos
 sibilité de faire un A/R pour voir la ruine du château) puis vers Rennes
 -les-bains. Rennes-les-bains\, station thermale depuis l’antiquité avec
  ses sources d’eau chaude et froide (traitement des rhumatismes). Rennes
  le château se situe sur le méridien de Paris : ce village appartient do
 nc à la route méridienne verte traversant 336 autres communes de France.
  Rennes-les-bains est également lié par son abbé Henri Boudet à la fam
 euse histoire de l’abbé Saunières\, abbé de Rennes le château. Puis 
 retour vers Sougraigne par le Col de la Salso. Météo : 08 99 71 02 11. S
 ecours : 112.\nPour télécharger le topo\, cliquez ici\n[sgpx gpx="/wp-c
 ontent/uploads/gpx/gpx Sougraigne randonneurs 2.gpx"][sgpx gpx="/wp-conten
 t/uploads/gpx/gpx sougraigne Randonneurs 1.gpx"]\nCONSEILS PRATIQUES\n Mun
 issez-vous des équipements individuels minimum suivants\, exigés pour pa
 rticiper en sécurité à cette randonnée  :\n– Chaussures de randonn
 ée adaptées\, les « baskets » ne sont pas autorisés\,\n– Vêtements
  et équipements de protection\, bonnet\, gants\, bâtons\, guêtres ..\n
 – Eau en quantité suffisante\, repas de déjeuner et vivres de course\,
 \nN’oubliez pas\, vos médicaments personnels\, éventuellement votre t
 éléphone mobile\, appareil photo… et surtout n’oubliez pas votre cr
 ème solaire\, vos lunettes… et votre bonne humeur !\nEN CAS D’ANNULAT
 ION\nVeuillez contacter :\nPar messagerie aux adresses suivantes:\n– Ber
 nard PORCHERON : porcheron.bernard@wanadoo.fr – Jacques VIGUIÉ : viguie
 jacques@orange.fr\nPar téléphone auprès de :\n– Bernard PORCHERON : 0
 5.61.80.13.22 ou 06.81.59.25.69\n– Jacques VIGUIÉ : 06.70.72.94.76
CATEGORIES:Rando
END:VEVENT
BEGIN:VTIMEZONE
TZID:Europe/Paris
X-LIC-LOCATION:Europe/Paris
BEGIN:STANDARD
DTSTART:20181028T020000
TZOFFSETFROM:+0200
TZOFFSETTO:+0100
TZNAME:CET
END:STANDARD
END:VTIMEZONE
END:VCALENDAR