BEGIN:VCALENDAR
VERSION:2.0
PRODID:-//wp-events-plugin.com//7.2.2.1//EN
TZID:Europe/Paris
X-WR-TIMEZONE:Europe/Paris
BEGIN:VEVENT
UID:73@montagnerando-fonsegrives.com
DTSTART;TZID=Europe/Paris;VALUE=DATE:20161002
DTEND;TZID=Europe/Paris;VALUE=DATE:20161003
DTSTAMP:20171204T170914Z
URL:https://montagnerando-fonsegrives.com/events/dimanche-2-octobre-lac-et
 -col-darizes-depuis-artigues-route-de-la-mongie/
SUMMARY:Dimanche 2 Octobre = Lac et Col d’Arizes depuis Artigues\, route 
 de La Mongie [Htes-Py.]
DESCRIPTION:Dimanche 2 Octobre = Lac et Col d’Arizes depuis Artigues\, 
 route de la Mongie [Htes Py.] Lac d’Arizes &amp\; col d’Arizes et ses
  crêtes . Carte IGN : 1747 ET\nPrésentation de la randonnée : Point de 
 départ : Artigues (D 918): Parking dans le village d’Artigues au niveau
  de la centrale électrique\nCompter 2h30 de voiture pour rejoindre le poi
 nt de départ (180 kms)\nAltitude de départ 1250 m. Coordonnées GPS : 42
 .926900°/0.202070°\nLes différents parcours :\n. Boucle pour Marcheurs 
 : Montée au lac d’Arizes (2015m). A/R de 11 kms\, dénivelé : 800 m (c
 ircuit en bleu) Temps : 4h45. Option col d’Arizes : +2 kms \, +110m\n. B
 oucle pour Randonneurs : Lac et col d’Arizes (2132m) 14 kms\, dénivelé
  : 1230 m (circuit bleu + rouge) Temps : 6h15.\nPrendre le sentier des mul
 etiers du Pic di Midi\, ruisseau à gauche jusqu’au pont de Vaquès. Pou
 rsuivre toujours rive gauche sur le chemin qui devient sentier. Après une
  côte un peu raide\, on parvient au Val d’Arizes.\nRemonter le val\, to
 ujours rive gauche jusqu’à la cabane d’Arizes (1745m) ouverte (4 kms 
 de marche et 500m de dénivelé). Une longue ascension à flanc de montagn
 e reste à faire jusqu’au lac (2015m).\nPour les marcheurs\, possibilit
 é de monter au col d’Arizes (2132m) (110 m de dénivelé &amp\; 2 kms e
 n plus)\nPour les randonneurs\, revenir par les crêtes situées à main g
 auche. Puis Penè Lourque et Courtalet.\nMétéo : 08 99 71 02 09. Office 
 de tourisme : 05 61 05 20 04.\nSecours Ariège : 112. PGHM : 05 61 64 22 5
 8 (Salvignac les ormaux)\nPour télécharger le topo\, cliquez ici\nLes di
 rectives d’animation des Groupes de niveau seront données au départ de
  la randonnée.\nRendez-vous comme d’habitude à 6h.45 sur le parking du
  Complexe P.-Pépi pour un départ effectif à 7 h.\nCONSIGNES\nChoisissez
 -bien votre Groupe de niveau\, en fonction de la carte et du topo disponib
 les sur le site internet de la Section\, de la météo prévue et de votre
  état de forme.\nConsultez et suivez les conseils et recommandations de n
 otre site Internet pour vous y préparer.\nMunissez-vous des équipements 
 individuels minimum suivants\, exigés pour participer en sécurité à ce
 tte randonnée pédestre\nChaussures de randonnée adaptées\, les « bask
 ets » ne sont pas autorisés\,\nVêtements et équipements de protection 
 contre le froid\, le vent\, la pluie et le soleil\,\nEau en quantité suff
 isante\, repas de déjeuner et vivres de course. Les papiers à emballer d
 ans une pochette étanche : Papiers d’identité\, Carte Vitale\, Carte M
 utuelle.\nN’oubliez pas le cas échéant\, vos médicaments personnels\,
  bâtons\, lunettes…éventuellement votre téléphone mobile\, appareil 
 photo… et en tous cas\, votre bonne humeur !\nEN CAS D'ANNULATION\nVeuil
 lez contacter :\nPar messagerie aux adresses suivantes:\n- Bernard PORCHER
 ON : porcheron.bernard@wanadoo.fr - Jacques VIGUIÉ : viguiejacques@orange
 .fr\nPar téléphone auprès de :\n- Bernard PORCHERON : 05.61.80.13.22 ou
  06.81.59.25.69\n- Jacques VIGUIÉ : 06.70.72.94.76
CATEGORIES:Rando
LOCATION:Lac et Col d’Arizes depuis Artigues\, route de la Mongie\, Artig
 ues\, Artigues\, hautes pyrenes\, France
GEO:45.031712;2.0383500000000367
X-APPLE-STRUCTURED-LOCATION;VALUE=URI;X-ADDRESS=Artigues\, Artigues\, haute
 s pyrenes\, France;X-APPLE-RADIUS=100;X-TITLE=Lac et Col d’Arizes depuis
  Artigues\, route de la Mongie:geo:45.031712,2.0383500000000367
END:VEVENT
BEGIN:VTIMEZONE
TZID:Europe/Paris
X-LIC-LOCATION:Europe/Paris
BEGIN:DAYLIGHT
DTSTART:20160327T030000
TZOFFSETFROM:+0100
TZOFFSETTO:+0200
TZNAME:CEST
END:DAYLIGHT
END:VTIMEZONE
END:VCALENDAR