BEGIN:VCALENDAR
VERSION:2.0
PRODID:-//wp-events-plugin.com//7.2.2.1//EN
TZID:Europe/Paris
X-WR-TIMEZONE:Europe/Paris
BEGIN:VEVENT
UID:132@montagnerando-fonsegrives.com
DTSTART;TZID=Europe/Paris;VALUE=DATE:20140420
DTEND;TZID=Europe/Paris;VALUE=DATE:20140421
DTSTAMP:20180418T123547Z
URL:https://montagnerando-fonsegrives.com/events/dimanche-20-avril-2014-se
 rre-de-montredon-roc-de-laigle-depuis-trassanel-aude/
SUMMARY:Dimanche 20 Avril 2014 = SERRE de MONTREDON ROC de l’AIGLE  depui
 s Trassanel (Aude)
DESCRIPTION:Carte IGN : n° 2345 E - Carcassonne\nPar beau temps\, la Serre
  de Montredon offre un beau point de vue sur la plaine audoise et les Pyr
 énées.\nItinéraire des MARCHEURS 11\,6 km / dénivelé cumulé= 500m. (
 en bleu sur la carte) : Sortir du village par la route goudronnée puis ci
 mentée \; emprunter le GR36 jusqu’au point 1 (Col de Matte-Arnaude =720
  m.) puis le chemin de gauche. A la cote 730 (point 2)\, quitter le GR et 
 continuer la piste. Après une large boucle vers l’ouest\, à la cote 77
 5 m (point 3)\, quitter la piste et monter à droite par un chemin large e
 t raide longeant une forêt de résineux pour atteindre la crête de la Se
 rre de Montredon (857m.).\nDescendre à l’est (point 4 =853m.) et retrou
 ver le GR (=765m.) qui ramène à Trassanel.\nItinéraire des RANDONNEURS 
 12\,6 km / dénivelé cumulé= 620m. (en bleu puis rouge sur la carte) : S
 uivre l’itinéraire des marcheurs (Serre de Montredon et retour) jusqu
 ’au point 5 (= 737m.) suivre un sentier puis une piste \; un cairn = le 
 Roc de l’Aigle est à 10 minutes. Revenir sur la piste et dévaler plein
  sud une crête jusqu’à un col (point 6 = 515 m.). Suivre les balises 
 à droite et\, par montées et descentes\, traverser les ravins de Matte-A
 rnaude et de Laure\, arriver à la stèle « Souvenir du 8 Août 1944) et 
 par un large chemin\, revenir à Trassanel.\nPour télécharger le topo\, 
 cliquez ici\n
END:VEVENT
BEGIN:VTIMEZONE
TZID:Europe/Paris
X-LIC-LOCATION:Europe/Paris
BEGIN:DAYLIGHT
DTSTART:20140330T030000
TZOFFSETFROM:+0100
TZOFFSETTO:+0200
TZNAME:CEST
END:DAYLIGHT
END:VTIMEZONE
END:VCALENDAR