BEGIN:VCALENDAR
VERSION:2.0
PRODID:-//wp-events-plugin.com//7.2.2.1//EN
TZID:Europe/Paris
X-WR-TIMEZONE:Europe/Paris
BEGIN:VEVENT
UID:134@montagnerando-fonsegrives.com
DTSTART;TZID=Europe/Paris;VALUE=DATE:20190120
DTEND;TZID=Europe/Paris;VALUE=DATE:20190121
DTSTAMP:20190112T182732Z
URL:https://montagnerando-fonsegrives.com/events/dimanche-20-janvier-2019-
 randonnee-raquettes/
SUMMARY:Dimanche 20 janvier 2019 = Randonnée Raquettes
DESCRIPTION:Suivant les conditions climatiques\, les randonnées raquettes 
 pourront être remplacées par des randonnées pédestres. Une randonnée 
 pédestre sera programmée durant l’hiver.\nDes informations plus préci
 ses vous seront données ultérieurement.
CATEGORIES:Rando
END:VEVENT
BEGIN:VTIMEZONE
TZID:Europe/Paris
X-LIC-LOCATION:Europe/Paris
BEGIN:STANDARD
DTSTART:20181028T020000
TZOFFSETFROM:+0200
TZOFFSETTO:+0100
TZNAME:CET
END:STANDARD
END:VTIMEZONE
END:VCALENDAR