BEGIN:VCALENDAR
VERSION:2.0
PRODID:-//wp-events-plugin.com//7.2.2.1//EN
TZID:Europe/Paris
X-WR-TIMEZONE:Europe/Paris
BEGIN:VEVENT
UID:123@montagnerando-fonsegrives.com
DTSTART;TZID=Europe/Paris;VALUE=DATE:20180121
DTEND;TZID=Europe/Paris;VALUE=DATE:20180122
DTSTAMP:20180119T231555Z
URL:https://montagnerando-fonsegrives.com/events/dimanche-21-janvier-2018-
 randonnee-raquettes/
SUMMARY:Dimanche 21 janvier 2018 = Beaufort – Mailhac - Oupia
DESCRIPTION:Beaufort – Mailhac - Oupia - Cartes IGN : ET\nPrésentation d
 e la randonnée : Point de départ : Parking le long de la place du villag
 e de Beaufort via Carcassonne Olonzac Se trouve à 133 kms de Toulouse\, 2
 H00 de route en bus.\nCoordonnées GPS : LAT/LNG 42° 43' 0.63'' N / 1° 5
 7' 0.89'' E\nLes différents parcours :\n • Boucle Marcheurs : Distance 
 : 16kms\, dénivelé : 320 m\, Durée : 5h00\n • Boucle Randonneurs : Di
 stance : 24\,5 kms\, dénivelé : 440 m\, Durée : 5h45\nBeaufort est un v
 illage situé dans le département de l’Hérault. Ce village possède un
  château (ancienne forteresse) dont la construction débuta au XVIème si
 ècle pour se terminer au XIXème siècle. Le château\, domaine privé\, 
 occupant une activité viticole (AOC minervois) est classé au titre des m
 onuments historiques depuis 1984. La randonnée nous permet de longer des 
 vignes bordées de murettes\, de parcourir la garrigue et de traverser des
  banquettes plantées de conifères (pins parasols\, pins d’Alep\, pins 
 noirs\, cyprès \, cèdres du Liban et de l’Atlas\, etc….). Cette for
 êt artificielle est sillonnée de larges pistes utilisées par les grumie
 rs qui emportent les arbres tronçonnés et par les pompiers : on y trouve
  des citernes DCI (Défense contre l’incendie). Des éoliennes ont été
  installées sur la crête ventée de la Serre d’Oupia. Les randonneurs 
 feront un détour pour visiter le joli village d’Aigne : Un bâti archit
 ectural unique datant du XIe siècle et appelé « l'Escargot » : c'est u
 n colimaçon de maisons construites en spirale centré sur la place de l'
 église qui n'est accessible que par un porche privé\, autrefois flanqué
  d'un pont-levis et défendu par une herse. On peut croire que cette archi
 tecture est le résultat d'un choix stratégique de défense.\nMétéo : 0
 8 99 71 02 34. Secours : 112.\n[sgpx gpx="/wp-content/uploads/gpx/Randonne
 urs Beuafort Aigne.gpx"][sgpx gpx="/wp-content/uploads/gpx/Marcheurs.gpx"]
 \nPour télécharger le topo\, cliquez ici\n\n\n\nCONSIGNES\nChoisissez-
 bien votre Groupe de niveau\, en fonction des précisions données dans le
  car par les animateurs et de votre état de forme.\nMunissez-vous des éq
 uipements individuels minimum suivants\, exigés pour participer en sécur
 ité à cette randonnée :\nChaussures adaptées\, Vêtements et équipem
 ents de protection contre le froid\, le vent\, la neige et le soleil (lune
 ttes\, crème solaire\, etc…)\nCouverture de survie. Eau en quantité su
 ffisante\, repas de déjeuner et vivres de course\, N’oubliez pas le cas
  échéant\, un peu d’argent liquide\, vos médicaments personnels\, év
 entuellement votre téléphone mobile\, votre appareil photo… et en tout
  cas\, votre bonne humeur !\nEN CAS D'ANNULATION\nVeuillez contacter :\nPa
 r messagerie aux adresses suivantes:\n- Bernard PORCHERON : porcheron.bern
 ard@wanadoo.fr - Jacques VIGUIÉ : viguiejacques@orange.fr\nPar téléphon
 e auprès de :\n- Bernard PORCHERON : 05.61.80.13.22 ou 06.81.59.25.69\n- 
 Jacques VIGUIÉ : 06.70.72.94.76
CATEGORIES:Rando
END:VEVENT
BEGIN:VTIMEZONE
TZID:Europe/Paris
X-LIC-LOCATION:Europe/Paris
BEGIN:STANDARD
DTSTART:20171029T020000
TZOFFSETFROM:+0200
TZOFFSETTO:+0100
TZNAME:CET
END:STANDARD
END:VTIMEZONE
END:VCALENDAR