BEGIN:VCALENDAR
VERSION:2.0
PRODID:-//wp-events-plugin.com//7.2.2.1//EN
TZID:Europe/Paris
X-WR-TIMEZONE:Europe/Paris
BEGIN:VEVENT
UID:216@montagnerando-fonsegrives.com
DTSTART;TZID=Europe/Paris;VALUE=DATE:20211121
DTEND;TZID=Europe/Paris;VALUE=DATE:20211122
DTSTAMP:20211118T084453Z
URL:https://montagnerando-fonsegrives.com/events/dimanche-21-novembre-la-r
 oche-ronde/
SUMMARY:Dimanche 21 Novembre : La Roche ronde
DESCRIPTION:Sommets du Mont (1196m) et la Roche Ronde  (981m) \nCarte IGN
  2147 ET\n\nTélécharger le topo - les traces GPX des Marcheurs (boucle)
   et des Randonneurs (boucle)\n\n\n\n\n\n\n\n\n\n\n\n\nPrésentation de l
 a randonnée\n\n\n\n\n\nPoint de départ :\nPartir vers Foix\, continuer e
 n direction de Tarascon-sur-Ariège. A l’entrée de ce village partir 
 à droite direction Col de Port. S’arrêter à Saurat au niveau du ci
 metière au pied de l’église en face de la poste\n\nDistance : 105 km
 s – 1h35\nCoordonnées GPS : 42\,877881 – 1\,533019 – Alt : 675m.\n\
 n\nDEPART EN BUS A 7H DEPUIS LE PARKING COMPLEXE PATRICK PEPI\n\n\n\n\n\n\
 n\n\n\n\n\n\n\n\n\n\n\nLe Parcours :\n\n 	Marcheurs : boucle\nDistance 10\
 ,3 kms\, dénivelé : 537 m\, Temps : 4h 30\n 	Randonneurs : Boucle\nDis
 tance 13\,2 kms\, dénivelé : 700 m\, Temps : 5h 30\n\n\n\n\n\n\n\n\n\n
 \n\n\n\n\n\n\n\n\n\n\n\n\n\n\n\n\n\n\n\n\n\n\n\n\n\n\n\n\n\n\n\n\n\n\n\n\n
 \nLe départ se situe à Saurat\, joli petit village proche de Tarascon-
 sur-Ariège\, en prenant la direction du Col de Port. ...\nAu bout du vil
 lage\, prendre la voie goudronnée à gauche et franchir le pont sur le 
 Saurat.\nQuitter la route pour prendre le sentier à droite qui mène ve
 rs le Col de Carlong.\nRandonnée agréable l'été car bien ombragé
 e. Le plus gros dénivelé se fait dans la première partie\, jusqu'au 
 Col de Carlong\, assez raide mais sans difficulté.\nRandonnée identiqu
 e pour les deux groupes : différence quelques aller/retour vers des somm
 ets culminant de la vallée de Saint-Lary .\n\n\n\n\n\n\n\n\n\n\n\n\n\n\n
 \nMerci de confirmer votre inscription avant Mercredi 17 Novembre 19h00\n\
 n\n\n\nMétéo : 08 99 71 02 09. Secours : 112\n\n\n
ATTACH;FMTTYPE=image/jpeg:https://montagnerando-fonsegrives.com/wp-content
 /uploads/2021/10/Roche-Ronde.png
CATEGORIES:Rando
END:VEVENT
BEGIN:VTIMEZONE
TZID:Europe/Paris
X-LIC-LOCATION:Europe/Paris
BEGIN:STANDARD
DTSTART:20211031T020000
TZOFFSETFROM:+0200
TZOFFSETTO:+0100
TZNAME:CET
END:STANDARD
END:VTIMEZONE
END:VCALENDAR