BEGIN:VCALENDAR
VERSION:2.0
PRODID:-//wp-events-plugin.com//7.2.2.1//EN
TZID:Europe/Paris
X-WR-TIMEZONE:Europe/Paris
BEGIN:VEVENT
UID:156@montagnerando-fonsegrives.com
DTSTART;TZID=Europe/Paris;VALUE=DATE:20181021
DTEND;TZID=Europe/Paris;VALUE=DATE:20181022
DTSTAMP:20181022T192611Z
URL:https://montagnerando-fonsegrives.com/events/dimanche-21-octobre-2018-
 randonnee-pedestre-pic-de-douly-ou-mont-aspet/
SUMMARY:Dimanche 21 Octobre 2018 = Randonnée Pédestre [Cabane de Piéjau 
 et Tucol de Paillères]
DESCRIPTION:Cabane de Piejau – Tucole de Paillere - Carte IGN : 1947 OT\n
 Depuis le petit hameau du Couéou\, une lente montée en estive puis en h
 êtraie pour découvrir sur la crête un beau panorama\, et un mystérieux
  cromlech.\nPrésentation de la randonnée : Point de départ : Parking 10
 0 m à gauche après l’embranchement de la D44 &amp\; D85 (le Couéu). S
 ortir à Saint Martory (N° 20). direction Aspet. Puis suivre la direction
  Col de Mente – Col de Portet d’Aspet Après Sengouagnet : prendre à 
 gauche direction Col de Mente – Col de Portet d’Aspet Au Pont de l’O
 ule\, prendre à droite la Direction Col de Mente Se trouve à 113 kms de 
 Toulouse\, 2H10 de route. Coordonnées GPS : 42\,92118 N \; 0 \,80494 E\nL
 es différents parcours : • Aller - Retour pour Randonneurs 1 : itinéra
 ire jusqu’à la cabane de Piejau (1456). 8\,8 kms\, dénivelé : 670 m\,
  Temps : 4h15 • Aller – Retour pour Randonneurs 2 : Rejoindre le Tucol
 e de Paillere via cabane de Piejau (1724 m) 14\,5 kms\, dénivelé : 950 m
 \, Temps : 6h00.\nUn itinéraire en aller-retour sans grande difficulté.\
 nUne vue sur divers sommets : Montvalier\, Pic de la Calabasse\, Pic de Ma
 uberné\, Mail de Bulard\, Massif d’Aneto\, Pic de Crabère et cap de ga
 uch.\nLa cabane de Piéjau est ouverte avec lits\, cheminée en cas de mau
 vais temps : ne pas avoir peur des souris présentes !\nMétéo : 08 99 71
  02 31. Secours : 112. PGHN : 05 61 64 22 58.\nPour télécharger le topo\
 , cliquez ici\n[sgpx gpx="/wp-content/uploads/gpx/gpx Tucole de Paillere.g
 px"]\nCONSEILS PRATIQUES\nMunissez-vous des équipements individuels minim
 um suivants\, exigés pour participer en sécurité à cette randonnée :\
 n– Chaussures de randonnée adaptées\, les « baskets » ne sont pas au
 torisés\,\n– Vêtements et équipements de protection\, bonnet\, gants\
 , bâtons\, guêtres ..\n– Eau en quantité suffisante\, repas de déjeu
 ner et vivres de course\,\nN’oubliez pas\, vos médicaments personnels\,
  éventuellement votre téléphone mobile\, appareil photo… et surtout n
 ’oubliez pas votre crème solaire\, vos lunettes… et votre bonne humeu
 r !\nEN CAS D’ANNULATION\nVeuillez contacter :\nPar messagerie aux adres
 ses suivantes:\n– Bernard PORCHERON : porcheron.bernard@wanadoo.fr – J
 acques VIGUIÉ : viguiejacques@orange.fr\nPar téléphone auprès de :\n
 – Bernard PORCHERON : 05.61.80.13.22 ou 06.81.59.25.69\n– Jacques VIGU
 IÉ : 06.70.72.94.76\n
CATEGORIES:Rando
END:VEVENT
BEGIN:VTIMEZONE
TZID:Europe/Paris
X-LIC-LOCATION:Europe/Paris
BEGIN:DAYLIGHT
DTSTART:20180325T030000
TZOFFSETFROM:+0100
TZOFFSETTO:+0200
TZNAME:CEST
END:DAYLIGHT
END:VTIMEZONE
END:VCALENDAR