BEGIN:VCALENDAR
VERSION:2.0
PRODID:-//wp-events-plugin.com//7.2.2.1//EN
TZID:Europe/Paris
X-WR-TIMEZONE:Europe/Paris
BEGIN:VEVENT
UID:120@montagnerando-fonsegrives.com
DTSTART;TZID=Europe/Paris;VALUE=DATE:20180422
DTEND;TZID=Europe/Paris;VALUE=DATE:20180423
DTSTAMP:20180423T111504Z
URL:https://montagnerando-fonsegrives.com/events/dimanche-22-avril-2018-ro
 c-de-montalet-lacaune/
SUMMARY:Dimanche 22 avril 2018 = Roc de Montalet-Lacaune
DESCRIPTION:Lacaune – Roc de Montalet (1259 m) - Cartes IGN : 2443 ET \n
 Présentation de la randonnée :  Point de départ : Parking Place de Gau
 lle devant l’office de Tourisme. Se trouve à 112 kms de Toulouse\, 2H10
  de route. Coordonnées GPS : LAT/LNG\n43° 706900 N / 2°690920 E.\nLes d
 ifférents parcours : • Boucle commune : Distance : 18 kms\, dénivelé
  : 550 m\, Durée : 5h30. Météo : 08 99 71 02 81.   Secours :  112.\n
 Cette randonnée classique mène au plus beau panorama du Lacaunais \; du 
 Roc des Ecus au Roc de Montalet par les pistes des hautes terres\, la lég
 ende fait cheminer de la colère du Diable jusqu’à la vierge.  Le Roc 
 de Montalet est un des plus hauts points de vue des Monts de Lacaune. Il s
 ervi\, à l'époque de l’adoption du système métrique\, de point inter
 médiaire pour calculer la distance entre Dunkerque et Barcelone. C'est au
 ssi un lieu miraculeux\, puisqu'en 1945\, Lucien Alengrin\, un enfant du p
 ays atteint d’une septicémie depuis cinq ans et condamné selon la méd
 ecine\, y est venu en pèlerinage le jour de la Pentecôte\, puis a guéri
  miraculeusement de sa maladie. Une statue de la vierge Marie trône au so
 mmet du roc de Montalet. Elle mesure 2\,20 m\, pèse 700 kg et repose sur 
 un socle de 9 mètres de hauteur. Elle fut érigée en 1882 avec le chemin
  de croix en fonte à la suite d'une retraite spirituelle prêchée par le
  père Jean de la Dresche.\nUn balisage jaune indique l’itinéraire à s
 uivre. Lacaune\, comme Rome\,  la ville aux Sept collines.  A votre reto
 ur à Lacaune\, prendre le temps de visiter la ville\, ses vieilles ruelle
 s\, fontaine des Pissaires\, musée\, ses ardoisières….. [sgpx gpx="/wp
 -content/uploads/gpx/Roc de Montalet.gpx"]\nPour télécharger le topo : c
 liquez ici\n\n\n\nCONSEILS PRATIQUES\n Munissez-vous des équipements ind
 ividuels minimum suivants\, exigés pour participer en sécurité à cette
  randonnée raquettes :\n– Chaussures de randonnée adaptées\, les « b
 askets » ne sont pas autorisés\,\n– Vêtements et équipements de prot
 ection\, bonnet\, gants\, bâtons\, guêtres ..\n– Eau en quantité suff
 isante\, repas de déjeuner et vivres de course\,\nN’oubliez pas\, vos m
 édicaments personnels\, éventuellement votre téléphone mobile\, appare
 il photo… et surtout n’oubliez pas votre crème solaire\, vos lunettes
 … et votre bonne humeur !\nEN CAS D’ANNULATION\nVeuillez contacter :\n
 Par messagerie aux adresses suivantes:\n– Bernard PORCHERON : porcheron.
 bernard@wanadoo.fr – Jacques VIGUIÉ : viguiejacques@orange.fr\nPar tél
 éphone auprès de :\n– Bernard PORCHERON : 05.61.80.13.22 ou 06.81.59.2
 5.69\n– Jacques VIGUIÉ : 06.70.72.94.76\n
CATEGORIES:Rando
END:VEVENT
BEGIN:VTIMEZONE
TZID:Europe/Paris
X-LIC-LOCATION:Europe/Paris
BEGIN:DAYLIGHT
DTSTART:20180325T030000
TZOFFSETFROM:+0100
TZOFFSETTO:+0200
TZNAME:CEST
END:DAYLIGHT
END:VTIMEZONE
END:VCALENDAR