BEGIN:VCALENDAR
VERSION:2.0
PRODID:-//wp-events-plugin.com//7.2.2.1//EN
TZID:Europe/Paris
X-WR-TIMEZONE:Europe/Paris
BEGIN:VEVENT
UID:189@montagnerando-fonsegrives.com
DTSTART;TZID=Europe/Paris;VALUE=DATE:20200322
DTEND;TZID=Europe/Paris;VALUE=DATE:20200323
DTSTAMP:20200105T131943Z
URL:https://montagnerando-fonsegrives.com/events/dimanche-22-mars-depart-a
 -8-h-30-elections-municipales-1er-tour-randonnee-raquettes/
SUMMARY:Dimanche 22 mars (départ à 8 h.30 élections municipales 1er tour
 ) = Randonnée Raquettes
DESCRIPTION:Attention : (départ à 8 h.30 élections municipales 1er tour)
  \n\nSuivant les conditions climatiques\, les randonnées raquettes pourro
 nt être remplacées par des randonnées pédestres. Une randonnée pédes
 tre sera programmée durant l’hiver.\nDes informations plus précises vo
 us seront données ultérieurement.\n\nCONSEILS PRATIQUES\nMunissez-vous d
 es équipements individuels minimum suivants\, exigés pour participer en 
 sécurité à cette randonnée :\n– Chaussures de randonnée adaptées\,
  les « baskets » ne sont pas autorisés\,\n– Vêtements et équipement
 s de protection\, bonnet\, gants\, bâtons\, guêtres ..\n– Eau en quant
 ité suffisante\, repas de déjeuner et vivres de course\,\nN’oubliez pa
 s\, vos médicaments personnels\, éventuellement votre téléphone mobile
 \, appareil photo… et surtout n’oubliez pas votre crème solaire\, vos
  lunettes… et votre bonne humeur !\nEN CAS D’ANNULATION\nVeuillez cont
 acter :\nPar messagerie aux adresses suivantes:\n– Bernard PORCHERON : p
 orcheron.bernard@wanadoo.fr – Jacques VIGUIÉ : viguiejacques@orange.fr\
 nPar téléphone auprès de :\n– Bernard PORCHERON : 05.61.80.13.22 ou 0
 6.81.59.25.69\n– Jacques VIGUIÉ : 06.70.72.94.76\n\n&nbsp\;\n\n&nbsp\;
CATEGORIES:Rando
END:VEVENT
BEGIN:VTIMEZONE
TZID:Europe/Paris
X-LIC-LOCATION:Europe/Paris
BEGIN:STANDARD
DTSTART:20191027T020000
TZOFFSETFROM:+0200
TZOFFSETTO:+0100
TZNAME:CET
END:STANDARD
END:VTIMEZONE
END:VCALENDAR