BEGIN:VCALENDAR
VERSION:2.0
PRODID:-//wp-events-plugin.com//7.2.2.1//EN
TZID:Europe/Paris
X-WR-TIMEZONE:Europe/Paris
BEGIN:VEVENT
UID:90@montagnerando-fonsegrives.com
DTSTART;TZID=Europe/Paris;VALUE=DATE:20170423
DTEND;TZID=Europe/Paris;VALUE=DATE:20170424
DTSTAMP:20171202T170600Z
URL:https://montagnerando-fonsegrives.com/events/dimanche-23-avril-randonn
 ee-pedestre/
SUMMARY:Dimanche 23 avril = Randonnée pédestre - Labastide de Sérou (2 b
 oucles)
DESCRIPTION:\nRandonnée pédestre - Labastide –de-Sérou (2 boucles - Ma
 rcheurs / Randonneurs) \nDépart à 8 h.30 pour permettre le vote au 1er t
 our de l’Élection Présidentielle.\nPrésentation de la randonnée :  
 Point de départ : Parking à droite de la poste : en entrant dans le vill
 age\, face au bar prendre à droite : la poste est face à vous. Se trouve
  à 97 kms de TOULOUSE\, 1H15 de route. (Rejoindre Foix puis direction St 
 Girons par D117) Coordonnées GPS : LAT/LNG  43\, 012820/1\, 428670 Rando
 nnée praticable toute l’année hors neige.\nLes différents parcours :
   • Boucle Marcheurs : La Bastide – La Bastide par le lac de Mondély
  et Unjat 17\,7 kms\, dénivelé : 445 m\, Durée : 5h00 \n• Boucle Rand
 onneurs : La Bastide\, Lac de Mondély Distance : 20 kms\, dénivelé : 58
 0 m\, Durée : 5h45 Variante de 2\, 3 kms plus courte à Unjat. \nLe pié
 mont pyrénéen\, mi-parcours entre Foix et St Girons\, est intéressant 
 à plusieurs titres. Il offre un relief tourmenté qui permet de réaliser
  de beaux circuits avec une belle vue et des découvertes variées. Ici da
 ns le Séronais\, comme dans tout le piémont\, ce sont surtout les prairi
 es et la forêt qui recouvrent l’espace. Au milieu de ces côteaux s’
 étalent les eaux tranquilles du Lac de Mondély (coin agréable pour un p
 ique-nique) et quelques fermes\, placées à mi pente\, ont le plaisir quo
 tidien de contempler de joli paysage enveloppé parfois par une légère b
 rume qui rend fantomatiques les silhouettes effilées des peupliers au bor
 d de l’eau.  La longueur et le dénivelé de cette boucle en font une r
 andonnée sérieuse\, mais toujours passionnante par sa diversité\, qui s
 e réalise tantôt sur les crêtes peu boisées avec un point culminant au
 x antennes de Puech\, à 703 m d’altitude\, tantôt s’enfonçant aux c
 reux des vallons. Dans celui de Mondély\, le chemin peut s’avérer boue
 ux\, il est conseillé d’être bien chaussé. La Bastide de Sérou abrit
 e le Centre National du cheval de Mérens\, centre d’information de la r
 ace avec un musée vivant\, des services pour les éleveurs\, des cours d
 ’équitation et des stages. Ce cheval ariégeois d’origine très ancie
 nne\, certainement reproduit dans les grottes préhistoriques\, présente 
 une robe « noir zain (sans poil blanc) avec parfois des nuances roussâtr
 es. Le standard de la race lui donne une taille de 1\,45m à 1\,55m\, une 
 silhouette trapue\, ornée d’une très belle crinière et d’une longue
  queue. Elevé en montagne\, il possède de grandes qualités comme la fra
 nchise\, l’agilité et la docilité\, de plus il est endurant et a le pi
 ed sûr ? De multiples activités extractives faisaient autrefois la répu
 tation du département fer\, plomb\, cuivre\, tungstène\, argent\, gypse\
 , marbre\, etc… furent exploités. L’extraction de la pierre à aiguis
 er persiste\, mais seule celle du talc semble avoir un avenir. Dans ce con
 texte\, le renouveau de l’orpailleur est plutôt inattendu. Le dernier o
 rpailleur a disparu voici deux siècles. Aujourd’hui un public de plus e
 n plus nombreux reprend les techniques ancestrales dans le lit de l’Ari
 ège\, l’Alize et du Salat. Les stages d’orpaillage et compétition de
  chercheurs d’or apportent leur part de rêve.\nMétéo : 08 99 71 02 09
 .  Secours :  112.\n[sgpx gpx="/wp-content/uploads/gpx/La bastide de ser
 ou Marcheurs.gpx"]\nPour télécharger le topo\, cliquez ici\nCONSEILS PR
 ATIQUES\nMunissez-vous des équipements individuels minimum suivants\, exi
 gés pour participer en sécurité à cette randonnée :\n– Chaussures d
 e randonnée adaptées\, les « baskets » ne sont pas autorisés\,\n– V
 êtements et équipements de protection\, bonnet\, gants\, bâtons\, guêt
 res ..\n– Eau en quantité suffisante\, repas de déjeuner et vivres de 
 course\,\nN’oubliez pas\, vos médicaments personnels\, éventuellement 
 votre téléphone mobile\, appareil photo… et surtout n’oubliez pas vo
 tre crème solaire\, vos lunettes… et votre bonne humeur !\nEN CAS D’A
 NNULATION\nVeuillez contacter :\nPar messagerie aux adresses suivantes:\n
 – Bernard PORCHERON : porcheron.bernard@wanadoo.fr – Jacques VIGUIÉ :
  viguiejacques@orange.fr\nPar téléphone auprès de :\n– Bernard PORCHE
 RON : 05.61.80.13.22 ou 06.81.59.25.69\n– Jacques VIGUIÉ : 06.70.72.94.
 76\n
ATTACH;FMTTYPE=image/jpeg:https://montagnerando-fonsegrives.com/wp-content
 /uploads/2017/04/walking-1694137_1920.jpg
CATEGORIES:Rando
LOCATION:Randonnée pédestre - Labastide de Sérou\, Labastide de Sérou\,
  Randonnée pédestre - Labastide de Sérou\, France
GEO:43.012268;1.4290690000000268
X-APPLE-STRUCTURED-LOCATION;VALUE=URI;X-ADDRESS=Labastide de Sérou\, Rando
 nnée pédestre - Labastide de Sérou\, France;X-APPLE-RADIUS=100;X-TITLE=
 Randonnée pédestre - Labastide de Sérou:geo:43.012268,1.429069000000026
 8
END:VEVENT
BEGIN:VTIMEZONE
TZID:Europe/Paris
X-LIC-LOCATION:Europe/Paris
BEGIN:DAYLIGHT
DTSTART:20170326T030000
TZOFFSETFROM:+0100
TZOFFSETTO:+0200
TZNAME:CEST
END:DAYLIGHT
END:VTIMEZONE
END:VCALENDAR