BEGIN:VCALENDAR
VERSION:2.0
PRODID:-//wp-events-plugin.com//7.2.2.1//EN
TZID:Europe/Paris
X-WR-TIMEZONE:Europe/Paris
BEGIN:VEVENT
UID:229@montagnerando-fonsegrives.com
DTSTART;TZID=Europe/Paris;VALUE=DATE:20220424
DTEND;TZID=Europe/Paris;VALUE=DATE:20220425
DTSTAMP:20220420T201049Z
URL:https://montagnerando-fonsegrives.com/events/dimanche-24-avril-les-ter
 res-rouge/
SUMMARY:Dimanche 24 Avril : Les Terres Rouges
DESCRIPTION:LES TERRES ROUGES \nCarte IGN 2246 OT\n\nTélécharger le topo
  - les traces GPX des Marcheurs et Randonneurs \n\n\n\n\n\n\n\n\n\n\n\n\n
 Présentation de la randonnée\n\n\n\n\n\nPoint de départ :\nPrendre la A
 61\, sortir à BRAMS puis direction LIMOUX\, ESPERAZA et à COUIZA parti
 r à gauche par la D613. Se garer sur la droite avant l’entrée du vil
 lage.\n\nDistance : 120 kms – 2h00\nCoordonnées GPS : 42\,94595N – 2\
 ,32303E -Alt : 271 m.\n\n\nDEPART EN BUS RETARDÉ A 8H30 (ÉLECTION PRÉSI
 DENTIELLE) DEPUIS LE PARKING COMPLEXE PATRICK PEPI\n\n\n\n\n\n\n\n\n\n\n\n
 \n\n\n\n\nLe Parcours :\n\n 	Boucle Marcheurs : Cassaignes\, Peyrolles\nDi
 stance : 12\,8 kms\, dénivelé : 350 m\, Durée : 5h 00.\n 	Boucle Ran
 donneurs :\nDistance 16\,3 kms\, dénivelé : 720 m\, Temps : 5h 30.\n\n
 \n\n\n\n\n\n\n\n\n\n\n\n\n\n\n\n\n\n\n\n\n\n\n\n\n\n\n\n\n\n\n\n\n\n\n\n\n
 \n\n\n\n\n\n\n\n\n\n\n\n\n\n\nLes « terres rouges »\, anciens sédiment
 s mélangés à des oxydes de fer\, se sont formées il y a environ 65
  millions d’années dans des marais au climat tropical puis ont été
  érodées\, formant des vallonnements et de petits canyons qui évoque
 nt modestement un paysage de western... Forêts\, garrigues fleuries\, vi
 gnobles\, prairies se succèdent avec de pittoresques petits villages\, d
 es ponts\, des points de vue étonnants...\nLe château de Serres perche
 ́ sur une petite colline surveille le village. Ancienne maison du 15/16e
 ̀me siècle construite sur les ruines d’un château fort féodal ou
 ̀ résidaient les seigneurs du coin et notamment les évêques d’Ale
 t.\n\n\n\n\n\n\n\n\n\n\n\n\n\n\n\nMerci de confirmer votre inscription ava
 nt Mercredi 20 Avril 19h00\n\nRESERVATIONS CLOSES \n\n\n\n\nMétéo : 08 
 99 71 02 11. Secours : 112\n\n\n
ATTACH;FMTTYPE=image/jpeg:https://montagnerando-fonsegrives.com/wp-content
 /uploads/2022/04/TerresRouges2-scaled.jpeg
END:VEVENT
BEGIN:VTIMEZONE
TZID:Europe/Paris
X-LIC-LOCATION:Europe/Paris
BEGIN:DAYLIGHT
DTSTART:20220327T030000
TZOFFSETFROM:+0100
TZOFFSETTO:+0200
TZNAME:CEST
END:DAYLIGHT
END:VTIMEZONE
END:VCALENDAR