BEGIN:VCALENDAR
VERSION:2.0
PRODID:-//wp-events-plugin.com//7.2.2.1//EN
TZID:Europe/Paris
X-WR-TIMEZONE:Europe/Paris
BEGIN:VEVENT
UID:182@montagnerando-fonsegrives.com
DTSTART;TZID=Europe/Paris;VALUE=DATE:20191124
DTEND;TZID=Europe/Paris;VALUE=DATE:20191125
DTSTAMP:20191116T120823Z
URL:https://montagnerando-fonsegrives.com/events/dimanche-24-novembre-rand
 onnee-pedestre-cap-des-arjoulents-tuc-de-salavane-hte-gnne/
SUMMARY:Dimanche 24 Novembre = Randonnée Pédestre (Cap des Arjoulents / T
 uc de Salavané) [Hte-Gnne]
DESCRIPTION:Cap des Arjoulents – Tuc de Salavané - Carte IGN : 1848 OT\n
 Pour télécharger le topo\, cliquez ici - Les traces gpx : Randonneurs - 
 Col de Coume \,  Marcheurs - Tuc de Salavané \nPrésentation de la ran
 donnée : Point de départ : Se garer dans le village d’Oô\, à proximi
 té des tennis (alt.942m). Compter deux heures de voiture pour rejoindre l
 e point de départ (158 kms) Coordonnées GPS : 42.796735 N / 0\,507883 E\
 nLes différents parcours : • Boucle : distance : 11 kms\, dénivelé : 
 550 m\, Temps : 4h30 • Boucle + A/R au Tuc de Salavané : distance 13\,3
  kms\, dénivelé : 900m\, temps : 5h45\nJolie randonnée au départ du vi
 llage d'Oô pouvant être effectuée en raquettes. 11km de plaisir\, entre
  forêt\, cabanes et point de vue. Circuit peu fréquenté\, à faire si v
 ous cherchez le calme et profiter de la nature. Avec un peu de chance\, vo
 us croiserez quelques biches venues comme nous profiter de ce silence inco
 mparable. Nous rencontrerons les granges de Labach et irons jusqu’au col
  de Coume. Le circuit est repéré n°72. A partir du coll de Coume\, les 
 randonneurs se dirigeront au sud/sud-est afin d’atteindre le Tuc de Sala
 vané (1820 m). Le sommet atteint le même chemin jusqu’au col de Coume 
 puis suivre l’itinéraire des marcheurs pour revenir au point de départ
 . Vous n'oublierez pas de refermer derrière vous les différents portails
  se trouvant sur votre itinéraire. Météo : 08 99 71 02 31. Secours : 11
 2.\nCONSEILS PRATIQUES\nMunissez-vous des équipements individuels minimum
  suivants\, exigés pour participer en sécurité à cette randonnée :\n
 – Chaussures de randonnée adaptées\, les « baskets » ne sont pas aut
 orisés\,\n– Vêtements et équipements de protection\, bonnet\, gants\,
  bâtons\, guêtres ..\n– Eau en quantité suffisante\, repas de déjeun
 er et vivres de course\,\nN’oubliez pas\, vos médicaments personnels\, 
 éventuellement votre téléphone mobile\, appareil photo… et surtout n
 ’oubliez pas votre crème solaire\, vos lunettes… et votre bonne humeu
 r !\nEN CAS D’ANNULATION\nVeuillez contacter :\nPar messagerie aux adres
 ses suivantes:\n– Bernard PORCHERON : porcheron.bernard@wanadoo.fr – J
 acques VIGUIÉ : viguiejacques@orange.fr\nPar téléphone auprès de :\n
 – Bernard PORCHERON : 05.61.80.13.22 ou 06.81.59.25.69\n– Jacques VIGU
 IÉ : 06.70.72.94.76
CATEGORIES:Rando
END:VEVENT
BEGIN:VTIMEZONE
TZID:Europe/Paris
X-LIC-LOCATION:Europe/Paris
BEGIN:STANDARD
DTSTART:20191027T020000
TZOFFSETFROM:+0200
TZOFFSETTO:+0100
TZNAME:CET
END:STANDARD
END:VTIMEZONE
END:VCALENDAR