BEGIN:VCALENDAR
VERSION:2.0
PRODID:-//wp-events-plugin.com//7.2.2.1//EN
TZID:Europe/Paris
X-WR-TIMEZONE:Europe/Paris
BEGIN:VEVENT
UID:214@montagnerando-fonsegrives.com
DTSTART;TZID=Europe/Paris;VALUE=DATE:20211024
DTEND;TZID=Europe/Paris;VALUE=DATE:20211025
DTSTAMP:20211016T152840Z
URL:https://montagnerando-fonsegrives.com/events/dimanche-24-octobre-lente
 cade-depuis-lhospice-de-france/
SUMMARY:Dimanche 24 Octobre : L'Entecade depuis l'Hospice de France
DESCRIPTION:L’Entécade (2272m) / Etang de la Flèche (2081m) depuis l
 ’Hospice de France\n\nCarte IGN : 1848 OT\n\nTélécharger le topo - les
  traces GPX des Marcheurs (Etang de la Frêche)  et des Randonneurs (Pic 
 de l'Entécade)\n\n\n\n\n\n\n\n\n\n\n\n\nPrésentation de la randonnée\n\
 n\n\n\n\nPoint de départ :\nDe Bagnères de Luchon\, prendre la route de
  l'Hospice de France jusqu'à son terminus\nDistance : 161 kms – 2h30.\
 nCoordonnées GPS : 42\,72142 – 0\,65375. Alt : 1380 m.\n\n\nDEPART EN 
 BUS A 7H DEPUIS LE PARKING COMPLEXE PATRICK PEPI \n\n\n\n\n\n\n\n\n\n\n\n\
 n\n\n\n\nLe Parcours :\n\n 	Marcheurs : A/R jusqu’à l’Etang de la Fr
 èche (2081 m).\nDistance 9\,5 kms\, dénivelé : 720 m\, Temps : 5h 00
 .\n\n 	Randonneurs : Boucle menant à l’Entécade (2272 m) avec un ret
 our par le Pas de la Mountjoye (2069 m).\nDistance 12\,1 kms\, dénivele
 ́ : 940 m\, Temps : 6h 10.\n\n\n\n\n\n\n\n\n\n\n\n\n\n\n\n\n\n\n\n\n\n\n\
 n\n\n\n\n\n\n\n\n\n\n\n\n\n\n\n\n\n\n\n\n\n\n\nGrande classique du Luchonn
 ais\, l'Entecade au départ de l'Hospice de France est un parcours agré
 able et varié.\nLa magnifique vue au sommet de l'Entecade mérite à e
 lle seule l'effort consenti à la montée.\nL’entécade est un beau b
 elvédère sur le val d’Aran d’un côté et sur le massif de la Ma
 ladetta de l’autre. Par beau temps c’est une grande partie de la chai
 ̂ne des Pyrénées qui\, du Montcalm ariégeois au pic du Midi de Bigo
 rre\, sous nos yeux émerveillés.\nPlus sauvage\, le retour en boucle e
 st réservé aux randonneurs aguerris sachant s'orienter. Fabuleux panor
 ama au sommet de l'Entécade : - Au sud\, tuc de Molières\, Aneto\, Mal
 adeta\n- Au sud-ouest\, le Sauvegarde\n- A l'ouest\, les 3000 frontaliers\
 n- Au nord-ouest\, Arbizon et pic du Midi - Au nord-est\, le Maubermé\n\
 n\n\n\n\n\n\n\n\n\n\n\n\n\n\nMerci de confirmer votre inscription avant Me
 rcredi 20 Octobre 19h00\n\n\n\n\nMétéo : 08 99 71 02 31. Secours : 112\n
 \n\n
ATTACH;FMTTYPE=image/jpeg:https://montagnerando-fonsegrives.com/wp-content
 /uploads/2021/10/Entecade.jpeg
CATEGORIES:Rando
END:VEVENT
BEGIN:VTIMEZONE
TZID:Europe/Paris
X-LIC-LOCATION:Europe/Paris
BEGIN:DAYLIGHT
DTSTART:20210328T030000
TZOFFSETFROM:+0100
TZOFFSETTO:+0200
TZNAME:CEST
END:DAYLIGHT
END:VTIMEZONE
END:VCALENDAR