BEGIN:VCALENDAR
VERSION:2.0
PRODID:-//wp-events-plugin.com//7.2.2.1//EN
TZID:Europe/Paris
X-WR-TIMEZONE:Europe/Paris
BEGIN:VEVENT
UID:125@montagnerando-fonsegrives.com
DTSTART;TZID=Europe/Paris;VALUE=DATE:20180225
DTEND;TZID=Europe/Paris;VALUE=DATE:20180226
DTSTAMP:20180223T193912Z
URL:https://montagnerando-fonsegrives.com/events/dimanche-25-fevrier-2018-
 randonnee-raquettes/
SUMMARY:Dimanche 25 février 2018 = randonnée en raquettes
DESCRIPTION:Col du Lion (2031 m) - Cartes IGN : 1848 OT\n Présentation de 
 la randonnée : Point de départ : Parking de la station de ski de Bourg d
 ’Oueil. Se trouve à 170 kms de Toulouse\, 2H30 de route. Coordonnées G
 PS : LAT/LNG\n42° 43' 0.63'' N / 1° 57' 0.89'' E Les différents parcour
 s :\n• Aller/Retour Marcheurs (Port de Pierrefite : 1857 m) Distance :7\
 ,0 kms\, dénivelé : 500 m\, Durée : 3h30 • Aller/Retour Randonneurs (
 col de Lion : 2031 m) Distance : 11\,8 kms\, dénivelé : 850 m\, Durée :
  4h45\nMontée sans soucis jusqu’au port de Pierrefite. De là\, beau po
 int de vue sur le Mont Né. On poursuit par un beau cheminement sur des cr
 êtes faciles jusqu’au sommet du Col du Lion. Les marcheurs pourront s
 ’arrêter au port de Pierrefite et rentrer par le même itinéraire. Les
  randonneurs rentreront par le même itinéraire. Position avalancheuse po
 ur accéder au port de Pierrefite. A réaliser sur manteau neigeux parfait
 ement stabilisé. On peut éviter la zone critique en passant rive gauche 
 dans le haut du vallon.\nMétéo : 08 99 71 02 31. Secours : 112.\n[sgpx g
 px="/wp-content/uploads/gpx/Pic du Lion.gpx"]\nPour télécharger le topo\
 , cliquez ici\nEN CAS D'ANNULATION\nVeuillez contacter :\nPar messagerie
  aux adresses suivantes:\n- Bernard PORCHERON : porcheron.bernard@wanadoo.
 fr - Jacques VIGUIÉ : viguiejacques@orange.fr\nPar téléphone auprès de
  :\n- Bernard PORCHERON : 05.61.80.13.22 ou 06.81.59.25.69\n- Jacques VIGU
 IÉ : 06.70.72.94.76
CATEGORIES:Rando
END:VEVENT
BEGIN:VTIMEZONE
TZID:Europe/Paris
X-LIC-LOCATION:Europe/Paris
BEGIN:STANDARD
DTSTART:20171029T020000
TZOFFSETFROM:+0200
TZOFFSETTO:+0100
TZNAME:CET
END:STANDARD
END:VTIMEZONE
END:VCALENDAR