BEGIN:VCALENDAR
VERSION:2.0
PRODID:-//wp-events-plugin.com//7.2.2.1//EN
TZID:Europe/Paris
X-WR-TIMEZONE:Europe/Paris
BEGIN:VEVENT
UID:246@montagnerando-fonsegrives.com
DTSTART;TZID=Europe/Paris;VALUE=DATE:20220925
DTEND;TZID=Europe/Paris;VALUE=DATE:20220926
DTSTAMP:20220928T200200Z
URL:https://montagnerando-fonsegrives.com/events/dimanche-25-septembre-202
 2-etang-de-siscar/
SUMMARY:Dimanche 25 septembre 2022 : Étang de SISCAR
DESCRIPTION:Tour du Pic de Nerassol - Etang de Siscar \nCarte IGN 2249 OT\
 n\nTélécharger le topo - les traces GPX des Marcheurs et Randonneurs \n
 \n\n\n\n\n\n\n\n\n\n\n\nPrésentation de la randonnée\n\n\n\n\n\nPoint de
  départ :\nPrendre A66 puis la N20 pour se rendre à l’HOSPITALET pre
 ̀s l’ANDORRE : le bus se garera sur le parking de la gare\n\nDistance :
  146 kms – 2h15\nCoordonnées GPS : 42\,589321N – 1\,800333E -Alt : 14
 30 m.\n\n\nDEPART EN BUS A 7H DEPUIS LE PARKING COMPLEXE PATRICK PEPI\n\n\
 n\n\n\n\n\n\n\n\n\n\n\n\n\n\nLes Parcours :\n\n 	Marcheurs :\nAller/Retour
  : rejoindre l’étang de Siscar (refuge de Vésine)\nDistance : 12\,4 
 (10\,7) kms\, dénivelé : 760 (684) m\, Durée : 6h 00 (5h00)\n 	Rando
 nneurs :\nBoucle : Tour du Pic de Nerassol\nDistance 15\,0 kms\, dénivel
 é : 1000 m\, Temps : 6h 00\n\n\n\n\n\n\n\n\n\n\n\n\n\n\n\n\n\n\n\n\n\n\n
 \n\n\n\n\n\n\n\n\n\n\n\n\n\n\n\n\n\n\n\n\n\nDescriptif de la randonnée.\n
 Magnifique randonnée au fil de l'eau dans un cadre sauvage et champêtr
 e\, le long des ruisseaux du Siscar et du val d'Arques.\nVéritables havr
 es de paix\, les étangs du Siscar et de Pédoures constituent les deux 
 haltes incontournables pour profiter d'un moment de détente.\nPoint de p
 assage entre les 2 vallées\, la porteille du Siscar nous offre un magnif
 ique point de vue sur les étangs en contrebas. Balade au fil de l'eau\, 
 le long de jolis ruisseaux\, et de beaux lacs d'altitude.\nBalisage rouge\
 nLe but de la randonnée de base des Marcheurs est d’atteindre l’ét
 ang de Siscar : toutefois\, l et possible de s’arrêter à proximité
  du refuge de Vésine (indication entre parenthèses dans l’intitulé
  du parcours)\n\n\n\n\n\n\n\n\n\n\n\n\n\n\n\nMerci de confirmer votre insc
 ription avant Mercredi 21 Septembre 19h00 \n\n\n\nMétéo : 08 99 71 02 09
 . Secours : 112\n\n\n
ATTACH;FMTTYPE=image/jpeg:https://montagnerando-fonsegrives.com/wp-content
 /uploads/2022/09/lac-du-sisca.jpeg
CATEGORIES:Rando
END:VEVENT
BEGIN:VTIMEZONE
TZID:Europe/Paris
X-LIC-LOCATION:Europe/Paris
BEGIN:DAYLIGHT
DTSTART:20220327T030000
TZOFFSETFROM:+0100
TZOFFSETTO:+0200
TZNAME:CEST
END:DAYLIGHT
END:VTIMEZONE
END:VCALENDAR