BEGIN:VCALENDAR
VERSION:2.0
PRODID:-//wp-events-plugin.com//7.2.2.1//EN
TZID:Europe/Paris
X-WR-TIMEZONE:Europe/Paris
BEGIN:VEVENT
UID:236@montagnerando-fonsegrives.com
DTSTART;TZID=Europe/Paris;VALUE=DATE:20220626
DTEND;TZID=Europe/Paris;VALUE=DATE:20220627
DTSTAMP:20220613T210051Z
URL:https://montagnerando-fonsegrives.com/events/dimanche-26-juin-lac-de-b
 essines/
SUMMARY:Dimanche 26 Juin  : Lac de Bessines
DESCRIPTION:LAC de BESINES &amp\; PORTEILLE de BESINES\nCarte IGN 2249 OT\n
 \nTélécharger le topo - les traces GPX des Marcheurs et Randonneurs\n\n\
 n\n\n\n\n\n\n\n\n\n\n\nPrésentation de la randonnée\n\n\n\n\n\nPoint de 
 départ :\nPrendre A66 puis la N20 pour se rendre à l’HOSPITALET prè
 s l’ANDORRE.\nDistance : 146 kms – 2h 15.\n\nCoordonnées GPS : 42.589
 321 – 1.800333 -Alt. 1430 m.\n\n\nDEPART EN BUS A 7H DEPUIS LE PARKING C
 OMPLEXE PATRICK PEPI\n\n\n\n\n\n\n\n\n\n\n\n\n\n\n\n\nLe Parcours :\n\n 	M
 archeurs Aller/Retour : rejoindre le refuge de de Bésines\nDistance : 14
 \,3 kms\, dénivelé : 630 m\, Durée : 5h 30\n 	Randonneurs Aller/Reto
 ur : refuge de Bésines et Porteille de Bésines\nDistance 17\,0 kms\, d
 énivelé : 972 m\, Durée : 7 h 00.\n\n\n\n\n\n\n\n\n\n\n\n\n\n\n\n\n\n
 \n\n\n\n\n\n\n\n\n\n\n\n\n\n\n\n\n\n\n\n\n\n\n\n\n\n\n\n\n\n\n\n\n\n\n\nLa
  randonnée vers l'étang de Bésines se démarque par la beauté de 
 ses paysages mais aussi de sa faune et de sa flore. Lieu prisé pour la p
 ratique de la pêche\, l'étang est à l'ombre des pins à crochets qu
 i l'entoure. Côté faune\, avec un brin de curiosité il est possible 
 de trouver des terriers de marmottes\, voir même si vous tendez l'oreill
 e d'entendre leurs sifflements !\nEn marchant discrètement en montagne\,
  et de préférence le matin\, vous aurez peut-être le loisir d’obse
 rver ce petit animal joueur\, trottinant sur les pentes herbeuses ou vous 
 regardant\, imperturbable\, avec méfiance. D’exigences écologiques p
 eu contraignantes\, la marmotte demande un sol meuble pour creuser son ter
 rier\, sur un versant exposé au soleil à proximité d’un herbage bi
 en fourni. Quant à l’eau\, celle des plantes et la rosée lui suffit 
 amplement. Corps trapu et membres courts\, immenses incisives et ongles lo
 ngs\, nombreux poils tactiles démontrent son adaptation à la vie soute
 rraine et traduisent qu’elle est un animal fouisseur. De fait\, la marmo
 tte adore creuser et ses lieux d’estive sont farcis de tunnels et autres
  boyaux inachevés. Après maturité des jeunes\, les terriers devienne
 nt vite impersonnels et une marmotte affolée se précipite dans le prem
 ier terrier venu. Chaque domaine vital se compose d’un système princip
 al où les marmottes demeurent la plupart du temps et d’un secteur pé
 riphérique utilisé pour la recherche de nourriture et équipé de tu
 bes de fuite. Les marmottes aiment la vie sociale (toilettage mutuel\, jeu
 x) et la solidarité est totale envers l’agresseur. Lorsqu’une marmot
 te perçoit un fait insolite\, elle siffle. Si le danger est éloigné\
 , le cri est répété plusieurs fois et repris par toutes les autres. 
 Par contre\, si un ennemi surgit brusquement à faible distance\, un seul
  cri fait rentrer toute la colonie sous terre. L’aigle royal\, prédate
 ur par excellence\, est signalé par un cri de panique très strident.\n
 \n\n\n\n\n\n\n\n\n\n\n\n\n\n\n&nbsp\;\n\nMerci de confirmer votre inscript
 ion avant Mercredi 22 Juin 19h00\n\n\n\n\nMétéo : 08 99 71 02 09. Secour
 s : 112\n\n\n
ATTACH;FMTTYPE=image/jpeg:https://montagnerando-fonsegrives.com/wp-content
 /uploads/2022/06/Etang-des-Bésines-paysage.png
END:VEVENT
BEGIN:VTIMEZONE
TZID:Europe/Paris
X-LIC-LOCATION:Europe/Paris
BEGIN:DAYLIGHT
DTSTART:20220327T030000
TZOFFSETFROM:+0100
TZOFFSETTO:+0200
TZNAME:CEST
END:DAYLIGHT
END:VTIMEZONE
END:VCALENDAR