BEGIN:VCALENDAR
VERSION:2.0
PRODID:-//wp-events-plugin.com//7.2.2.1//EN
TZID:Europe/Paris
X-WR-TIMEZONE:Europe/Paris
BEGIN:VEVENT
UID:109@montagnerando-fonsegrives.com
DTSTART;TZID=Europe/Paris;VALUE=DATE:20171126
DTEND;TZID=Europe/Paris;VALUE=DATE:20171127
DTSTAMP:20171120T171907Z
URL:https://montagnerando-fonsegrives.com/events/dimanche-26-novembre-rand
 onnee-pedestre-circuit-du-col-des-saints-depuis-murat-sur-vebre/
SUMMARY:Dimanche 26 Novembre = Randonnée pédestre – Circuit du Col des 
 Saints depuis Murat-sur-Vèbre
DESCRIPTION:Circuit du Col des Saints Cartes IGN : 2443 ET &amp\; 2543 OT\n
 \nPrésentation de la randonnée :\nPoint de départ : Parking près de l
 ’église à Murat sur Vèbre. Se trouve à 130 kms de Toulouse\, 2H30 de
  route. Coordonnées GPS : LAT/LNG 43\,680992 /2\,850463 Les différents p
 arcours :\n• Boucle Marcheurs : Distance 15 kms\, dénivelé : 418 m\, D
 urée : 5h30 \n• Boucle Randonneurs : Distance : 19\,37 kms\, dénivelé
  : 495 m\, Durée : 6h45\nTrès belle randonnée où se cachent dolmen &am
 p\; statue-menhir\, des passages fleuris qui bordent les chemins\, des poi
 nts de vue sur la campagne de Murat\, sur le Camarès et les pentes de l
 ’Espinouse. Ce circuit emprunte en partie l’antique chemin romain deve
 nue au Moyen-Age la voie Tolosane\, le chemin d’Arles à Saint-Jacques. 
 Le sentier est très bien balisé. Au point de départ\, à côté de l’
 église\, toilettes et sanitaires.\nA proximité vous pourrez voir :\n• 
 Après le village de Candoubre\, dans la montée faire un aller/retour dan
 s la forêt pour voir le dolmen de Castel Sec • En chemin (vers le km 4)
 \, se dresse la statue-menhir.\n• Au niveau des éoliennes\, ne manquer 
 pas une jolie croix en bois\n• Traverse de belles pinèdes ainsi que des
  hêtraies magnifiques. Murat-sur-Vèbre est un village bâti sur les Mont
 s de Lacaune\, situé dans le département du Tarn\, très proche de l’A
 veyron et l’Hérault. Ce village est situé sur le chemin de St Jacques\
 nMétéo : 08 99 71 02 81. Secours : 112\nOffice de Tourisme : 05 63 37 47
  47\n\n\n\n[sgpx gpx="/wp-content/uploads/gpx/Marcheurs MuratVebre.gpx"]\n
 [sgpx gpx="/wp-content/uploads/gpx/Col des Saints Murat sur Vèbre.gpx"]\n
 Pour télécharger le topo : [ddownload id="7809" text="Cliquez ici" style
 ="link"]\n\n\n\nCONSEILS PRATIQUES\nMunissez-vous des équipements individ
 uels minimum suivants\, exigés pour participer en sécurité à cette ran
 donnée raquettes :\n– Chaussures de randonnée adaptées\, les « baske
 ts » ne sont pas autorisés\,\n– Vêtements et équipements de protecti
 on\, bonnet\, gants\, bâtons\, guêtres ..\n– Eau en quantité suffisan
 te\, repas de déjeuner et vivres de course\,\nN’oubliez pas\, vos médi
 caments personnels\, éventuellement votre téléphone mobile\, appareil p
 hoto… et surtout n’oubliez pas votre crème solaire\, vos lunettes… 
 et votre bonne humeur !\nEN CAS D’ANNULATION\nVeuillez contacter :\nPar 
 messagerie aux adresses suivantes:\n– Bernard PORCHERON : porcheron.bern
 ard@wanadoo.fr – Jacques VIGUIÉ : viguiejacques@orange.fr\nPar téléph
 one auprès de :\n– Bernard PORCHERON : 05.61.80.13.22 ou 06.81.59.25.69
 \n– Jacques VIGUIÉ : 06.70.72.94.76
CATEGORIES:Rando
END:VEVENT
BEGIN:VTIMEZONE
TZID:Europe/Paris
X-LIC-LOCATION:Europe/Paris
BEGIN:STANDARD
DTSTART:20171029T020000
TZOFFSETFROM:+0200
TZOFFSETTO:+0100
TZNAME:CET
END:STANDARD
END:VTIMEZONE
END:VCALENDAR