BEGIN:VCALENDAR
VERSION:2.0
PRODID:-//wp-events-plugin.com//7.2.2.1//EN
TZID:Europe/Paris
X-WR-TIMEZONE:Europe/Paris
BEGIN:VEVENT
UID:223@montagnerando-fonsegrives.com
DTSTART;TZID=Europe/Paris;VALUE=DATE:20220227
DTEND;TZID=Europe/Paris;VALUE=DATE:20220228
DTSTAMP:20220224T075853Z
URL:https://montagnerando-fonsegrives.com/events/dimanche-27-fevrier-rando
 nnee-en-raquettes/
SUMMARY:Dimanche 27 Février - Randonnée Gorges d'Heric
DESCRIPTION:Changement de destination pour la randonnée du Dimanche 27 Fé
 vrier 2022.\nPas assez de neige pour une rando raquette nous irons donc da
 ns le Caroux pour une belle rando dans les Gorges d'Heric\n\nLe topo \, le
  GPX des Randonneurs et le GPX des Marcheurs\n\nATTENTION horaire de dépa
 rt avancé !\nLes participants sont conviés à se présenter à 6h45\, co
 mplexe Patrick Pépi à Quint Fonsegrives\, pour un départ du bus à 7h00
END:VEVENT
BEGIN:VTIMEZONE
TZID:Europe/Paris
X-LIC-LOCATION:Europe/Paris
BEGIN:STANDARD
DTSTART:20211031T020000
TZOFFSETFROM:+0200
TZOFFSETTO:+0100
TZNAME:CET
END:STANDARD
END:VTIMEZONE
END:VCALENDAR